BEGIN:VCALENDAR
VERSION:2.0
PRODID:-//wp-events-plugin.com//7.2.3.1//EN
TZID:Europe/Zurich
X-WR-TIMEZONE:Europe/Zurich
BEGIN:VEVENT
UID:94@zurich.fablab.ch
DTSTART;TZID=Europe/Zurich:20151013T180000
DTEND;TZID=Europe/Zurich:20151013T213000
DTSTAMP:20150828T091645Z
URL:https://zurich.fablab.ch/events/3d-drucker-selber-bauen-teilmachr-503e
 -1/
SUMMARY:3D-Drucker selber bauen (Teilmachr 503e) #1
DESCRIPTION:Unter fachlicher Anleitung baust Du Deinen eigenen «Teilmachr5
 03e» Open-Source-3D-Drucker zusammen und nimmst ihn in Betrieb. Du lernst
  den Umgang mit Slicer-Software zur Druckvorbereitung und produzierst Dein
 e ersten eigenen Teile.
ATTACH;FMTTYPE=image/jpeg:https://zurich.fablab.ch/wp-content/uploads/2015
 /07/18873934749_43c9d745ed_k.jpg
CATEGORIES:Workshops
LOCATION:FabLab Zürich\, Zimmerlistrasse 6\, Zürich\, 8004\, Schweiz
GEO:47.383947;8.510061
X-APPLE-STRUCTURED-LOCATION;VALUE=URI;X-ADDRESS=Zimmerlistrasse 6\, Zürich
 \, 8004\, Schweiz;X-APPLE-RADIUS=100;X-TITLE=FabLab Zürich:geo:47.383947,
 8.510061
END:VEVENT
BEGIN:VTIMEZONE
TZID:Europe/Zurich
X-LIC-LOCATION:Europe/Zurich
BEGIN:DAYLIGHT
DTSTART:20150329T030000
TZOFFSETFROM:+0100
TZOFFSETTO:+0200
TZNAME:CEST
END:DAYLIGHT
END:VTIMEZONE
END:VCALENDAR