BEGIN:VCALENDAR
VERSION:2.0
PRODID:-//wp-events-plugin.com//7.2.3.1//EN
TZID:Europe/Zurich
X-WR-TIMEZONE:Europe/Zurich
BEGIN:VEVENT
UID:1368@zurich.fablab.ch
DTSTART;TZID=Europe/Zurich:20240416T190000
DTEND;TZID=Europe/Zurich:20240416T220000
DTSTAMP:20240320T182723Z
URL:https://zurich.fablab.ch/events/adobe-indesign-basic/
SUMMARY:Adobe InDesign Basic
DESCRIPTION:Ob Flyer\, Broschüre\, Comic Layout\, Arbeitsblätter oder ein
  ganzes Buch\, sobald es darum geht\, Text und Bild auf mehreren Seiten zu
 sammen zu bringen\, kommt man um Adobe InDesign nicht mehr herum. Du lerns
 t die Grundlagen des Programms kennen\, vom Anlegen des Projekts\, bestimm
 en der Schrift über das Gestalten von Layout\, Rastern und den Umgang mit
  Bild- und Text Rahmen. Wir machen Übungen zu automatischer Text Verdrän
 gung\, Form-Satz und Text Formatierungen\, bis hin zum Arbeiten mit Muster
 seiten und automatischen Seitenzahlen. Nach dem Grundlagenkurs bist du fä
 hig\, ein eigenes mehrseitiges Design nach deiner Vorstellung zu erstellen
 .
ATTACH;FMTTYPE=image/jpeg:https://zurich.fablab.ch/wp-content/uploads/2024
 /03/Kursangebot-Maik4.jpg
CATEGORIES:Software,Workshops
LOCATION:FabLab Zürich\, Zimmerlistrasse 6\, Zürich\, 8004\, Schweiz
GEO:47.383947;8.510061
X-APPLE-STRUCTURED-LOCATION;VALUE=URI;X-ADDRESS=Zimmerlistrasse 6\, Zürich
 \, 8004\, Schweiz;X-APPLE-RADIUS=100;X-TITLE=FabLab Zürich:geo:47.383947,
 8.510061
END:VEVENT
BEGIN:VTIMEZONE
TZID:Europe/Zurich
X-LIC-LOCATION:Europe/Zurich
BEGIN:DAYLIGHT
DTSTART:20240331T030000
TZOFFSETFROM:+0100
TZOFFSETTO:+0200
TZNAME:CEST
END:DAYLIGHT
END:VTIMEZONE
END:VCALENDAR