BEGIN:VCALENDAR
VERSION:2.0
PRODID:-//wp-events-plugin.com//7.2.3.1//EN
TZID:Europe/Zurich
X-WR-TIMEZONE:Europe/Zurich
BEGIN:VEVENT
UID:1369@zurich.fablab.ch
DTSTART;TZID=Europe/Zurich:20240423T190000
DTEND;TZID=Europe/Zurich:20240423T220000
DTSTAMP:20240320T182845Z
URL:https://zurich.fablab.ch/events/apple-logic-pro-x/
SUMMARY:Apple Logic Pro X
DESCRIPTION:Ob Musik Komposition\, Gesang\, Audiobooks\, Hörspiele oder Po
 dcast: Die fantastische und super professionelle Software von Apple (ehema
 ls entwickelt von E-magic) bietet dir eine virtuelle Studio Umgebung für 
 eigene Kompositionen mit hunderten (oder sind es Tausende?) von virtuellen
  Instrumenten\, Effekten\, Loops und Generatoren. Audioproduktionen jeder 
 Art können schnell und professionell auf mehreren Spuren aufgenommen werd
 en.
ATTACH;FMTTYPE=image/jpeg:https://zurich.fablab.ch/wp-content/uploads/2024
 /03/Kursangebot-Maik8.jpg
CATEGORIES:Software,Workshops
LOCATION:FabLab Zürich\, Zimmerlistrasse 6\, Zürich\, 8004\, Schweiz
GEO:47.383947;8.510061
X-APPLE-STRUCTURED-LOCATION;VALUE=URI;X-ADDRESS=Zimmerlistrasse 6\, Zürich
 \, 8004\, Schweiz;X-APPLE-RADIUS=100;X-TITLE=FabLab Zürich:geo:47.383947,
 8.510061
END:VEVENT
BEGIN:VTIMEZONE
TZID:Europe/Zurich
X-LIC-LOCATION:Europe/Zurich
BEGIN:DAYLIGHT
DTSTART:20240331T030000
TZOFFSETFROM:+0100
TZOFFSETTO:+0200
TZNAME:CEST
END:DAYLIGHT
END:VTIMEZONE
END:VCALENDAR