BEGIN:VCALENDAR
VERSION:2.0
PRODID:-//wp-events-plugin.com//7.2.3.1//EN
TZID:Europe/Zurich
X-WR-TIMEZONE:Europe/Zurich
BEGIN:VEVENT
UID:820@zurich.fablab.ch
DTSTART;TZID=Europe/Zurich;VALUE=DATE:20210104
DTEND;TZID=Europe/Zurich;VALUE=DATE:20210105
DTSTAMP:20201221T134430Z
URL:https://zurich.fablab.ch/events/arduino-und-elektronik-abend-2021-01-0
 4/
SUMMARY:Abgesagt ! KEIN Arduino und Elektronik Abend
DESCRIPTION:Durch die verstärkten Massnahmen gegen das Coronavirus kann de
 r "Arduino und Elektronik Abend" leider nicht durchgeführt werden.\n\nEr 
 findet NICHT statt.\n\nDann haben wir im Februar mehr zu tun \;-)\n\nBleib
 t gesund und bis bald !
ATTACH;FMTTYPE=image/jpeg:https://zurich.fablab.ch/wp-content/uploads/2020
 /07/ArduEvening.jpg
CATEGORIES:Meetups
LOCATION:FabLab Zürich\, Zimmerlistrasse 6\, Zürich\, 8004\, Schweiz
GEO:47.383947;8.510061
X-APPLE-STRUCTURED-LOCATION;VALUE=URI;X-ADDRESS=Zimmerlistrasse 6\, Zürich
 \, 8004\, Schweiz;X-APPLE-RADIUS=100;X-TITLE=FabLab Zürich:geo:47.383947,
 8.510061
END:VEVENT
BEGIN:VTIMEZONE
TZID:Europe/Zurich
X-LIC-LOCATION:Europe/Zurich
BEGIN:STANDARD
DTSTART:20201025T020000
TZOFFSETFROM:+0200
TZOFFSETTO:+0100
TZNAME:CET
END:STANDARD
END:VTIMEZONE
END:VCALENDAR