BEGIN:VCALENDAR
VERSION:2.0
PRODID:-//wp-events-plugin.com//7.2.3.1//EN
TZID:Europe/Zurich
X-WR-TIMEZONE:Europe/Zurich
BEGIN:VEVENT
UID:1157@zurich.fablab.ch
DTSTART;TZID=Europe/Zurich:20220207T190000
DTEND;TZID=Europe/Zurich:20220207T210000
DTSTAMP:20220208T035626Z
URL:https://zurich.fablab.ch/events/arduino-und-elektronik-abend-2022-02-0
 7/
SUMMARY:Arduino und Elektronik Abend - ONLINE via Zoom
DESCRIPTION:Der Arduino Abend findet ONLINE statt\, via Zoom-Meeting !\n\nW
 arum Online ?\n1) Es ist eisig und nass\, gemäss Wettervorhersage\, so se
 nken wir das Risiko bei Eisglätte und erhöhen die Bequemlichkeit.\n2) Ni
 cht alle haben ein Zertifikat.\n3) Wir haben noch nie einen Abend Online a
 usprobiert.\n\nWarum Zoom ?\nEs ist die einfachste Möglichkeit\, im 3. Te
 il des Abends die Aufteilung in Interessengruppen umzusetzen\, so können 
 Teilnehmer sich vom grossen Meetingraum in einzelne Themenbasierte Unter-M
 eetingräume begeben und dort getrennt weiter diskutieren.\n(Discord kann 
 etwas Ähnliches\, braucht aber etwas Einarbeitung).\n\nWie läuft es ab ?
 \nEin paar Stunden vor dem Abend wird der Meeting-Link bekannt gegeben\,\n
 damit kann man sich dann per App\, Programm oder ohne Installation via Web
 browser einwählen.\n\nBitte vorher den Mikrofon-Pegel testen und einstell
 en.\n\nWie gehabt beginnen wir um 19 Uhr.\n\nTeil 1: Präsentationen und I
 nformationen\nTeil 2: Fragen in die Runde\nTeil 3: Die einzelnen Interesse
 ngruppen verteilen sich in die einzelnen Meeting-Räume.\n\nWer etwas sage
 n möchte kann dies per Chat ankündigen oder mit dem Button „Hand heben
 “.\n\nZoom-Meeting: Arduino Abend Februar\nUhrzeit: 7.Feb..2022 07:00 PM
  Zürich\n\n\nAlso bis bald und beim knabbern nicht vergessen das Mikrofon
  stumm zu schalten \;-)\n\n\nMitgliedschaft im FabLab ist nicht erforderli
 ch.\nAuch auf Meetup zu finden.
ATTACH;FMTTYPE=image/jpeg:https://zurich.fablab.ch/wp-content/uploads/2020
 /07/ArduEvening.jpg
CATEGORIES:Meetups
END:VEVENT
BEGIN:VTIMEZONE
TZID:Europe/Zurich
X-LIC-LOCATION:Europe/Zurich
BEGIN:STANDARD
DTSTART:20211031T020000
TZOFFSETFROM:+0200
TZOFFSETTO:+0100
TZNAME:CET
END:STANDARD
END:VTIMEZONE
END:VCALENDAR