BEGIN:VCALENDAR
VERSION:2.0
PRODID:-//wp-events-plugin.com//7.2.3.1//EN
TZID:Europe/Zurich
X-WR-TIMEZONE:Europe/Zurich
BEGIN:VEVENT
UID:1158@zurich.fablab.ch
DTSTART;TZID=Europe/Zurich:20220307T190000
DTEND;TZID=Europe/Zurich:20220307T210000
DTSTAMP:20220307T001840Z
URL:https://zurich.fablab.ch/events/arduino-und-elektronik-abend-2022-03-0
 7/
SUMMARY:Arduino und Elektronik Abend (Vor-Ort im Lab + Zoom)
DESCRIPTION:Jeden ersten Montag ist im FabLab Themenabend zu Arduino\, ESP3
 2\, Raspberry Pi und kompatibel\, sowie allgemein Elektronik\, von Sensore
 n einlöten über Messbrücken\, Funknetzwerke bis zu Datenbankeinträgen 
 das ganze Spektrum. (Offen und spontan\, man weiss nie was kommt.)\n\nZum 
 Ideenaustausch ist jeder eingeladen eigene Projekte mitzubringen und kurz 
 zu präsentieren.\nKeine Sorge\, es gibt keine Vorstellungsrunde :-)\n\nUn
 d wenn etwas nicht funktioniert\, einfach mitnehmen\, wir finden gemeinsam
  eine Lösung. :-)\n\nAber Vorsicht: Besitzer haften für Ihre Maschinen u
 nd Roboter !\n\nEintritt ist frei und Mitgliedschaft im FabLab ist nicht e
 rforderlich.\n\nAuch auf Meetup zu finden.\n\n\nNach dem Online-Experiment
  von letztem Monat\, nun das weitere Experiment der Live-Übertragung des 
 Events im FabLab via Zoom.\n\nDie Veranstaltung findet im FabLab statt und
  wird auch via Zoom übetragen\, allerdings ohne Kameramensch oder Roboter
  (wird nicht rechtzeitig fertig).\nEs wird ein Weitwinkelvideo aus dem Lab
  übertragen\, darüber wenn möglich die Slides/Folien der Bildschirmprä
 sentationen und das gesprochene Wort des Vortragenden.\nAllerdings hoch-ex
 perimentell...\n\nUhrzeit: 7.März.2022 07:00 PM Zürich\n\nhttps://us02we
 b.zoom.us/j/82923202254?pwd=bzh4L0NwRnpkcFV0ejNuam43WTcrZz09\nMeeting-ID: 
 829 2320 2254\nKenncode: 540074
ATTACH;FMTTYPE=image/jpeg:https://zurich.fablab.ch/wp-content/uploads/2020
 /07/ArduEvening.jpg
CATEGORIES:Meetups
LOCATION:FabLab Zürich\, Zimmerlistrasse 6\, Zürich\, 8004\, Schweiz
GEO:47.383947;8.510061
X-APPLE-STRUCTURED-LOCATION;VALUE=URI;X-ADDRESS=Zimmerlistrasse 6\, Zürich
 \, 8004\, Schweiz;X-APPLE-RADIUS=100;X-TITLE=FabLab Zürich:geo:47.383947,
 8.510061
END:VEVENT
BEGIN:VTIMEZONE
TZID:Europe/Zurich
X-LIC-LOCATION:Europe/Zurich
BEGIN:STANDARD
DTSTART:20211031T020000
TZOFFSETFROM:+0200
TZOFFSETTO:+0100
TZNAME:CET
END:STANDARD
END:VTIMEZONE
END:VCALENDAR