BEGIN:VCALENDAR
VERSION:2.0
PRODID:-//wp-events-plugin.com//7.2.3.1//EN
TZID:Europe/Zurich
X-WR-TIMEZONE:Europe/Zurich
BEGIN:VEVENT
UID:1180@zurich.fablab.ch
DTSTART;TZID=Europe/Zurich:20240101T190000
DTEND;TZID=Europe/Zurich:20240101T210000
DTSTAMP:20231209T061423Z
URL:https://zurich.fablab.ch/events/arduino-und-elektronik-abend-2024-01-0
 1/
SUMMARY:KEIN Arduino und Elektronik Abend\, Abgesagt\, KEIN Event!
DESCRIPTION:Die Teilnehmer haben abgestimmt\, es gibt KEIN Event am 1. Janu
 ar. Das holen wir im Februar wieder auf. Frohe Weihnachten und ein gutes n
 eues Jahr uns allen !
ATTACH;FMTTYPE=image/jpeg:https://zurich.fablab.ch/wp-content/uploads/2020
 /07/NoArduAbend.jpg
CATEGORIES:Meetups
END:VEVENT
BEGIN:VTIMEZONE
TZID:Europe/Zurich
X-LIC-LOCATION:Europe/Zurich
BEGIN:STANDARD
DTSTART:20231029T020000
TZOFFSETFROM:+0200
TZOFFSETTO:+0100
TZNAME:CET
END:STANDARD
END:VTIMEZONE
END:VCALENDAR