BEGIN:VCALENDAR
VERSION:2.0
PRODID:-//wp-events-plugin.com//7.2.3.1//EN
TZID:Europe/Zurich
X-WR-TIMEZONE:Europe/Zurich
BEGIN:VEVENT
UID:1438@zurich.fablab.ch
DTSTART;TZID=Europe/Zurich:20250321T180000
DTEND;TZID=Europe/Zurich:20250321T203000
DTSTAMP:20250220T155114Z
URL:https://zurich.fablab.ch/events/brother-machine-knitting-halsausschnit
 t-pullover-flachbett-2/
SUMMARY:Brother Machine Knitting Flachbett: Halsausschnitt für Pullover
DESCRIPTION:\nIn diesem Workshop lernst du wie du wie du mit der Einbett-St
 rickmaschine einen Halsausschnitt für einen Pullover mit Verkürzten Reih
 en erarbeitest.\nRundhalsausschnitt oder V-Ausschnitt.\nVORAUSSETZUNGEN: W
 orkshop "Brother machine Knitting Einführung 1: Flachbett"\n\nVORHANDEN: 
 Brother-Strickmaschinen und Wolle.\n\nKURSLEITUNG: Martina Altermatt\n\nZU
 R STÄRKUNG: kleiner Imbiss Tee oder Kaffe.\n\nTEILNEHMENDE: max. 4 Person
 en\n\nKURSPREIS:\n\n 	CHF 150.- für Mitglieder des FabLab Zürich\, exklu
 siv Material.\n 	Nichtmitglieder zahlen CHF 160.-  exklusiv Material.\n\n
 &nbsp\;\n\nBilder zu anderem Kurs: " Pixelbilder Hacked Knittingmaschine"\
 n\n 
ATTACH;FMTTYPE=image/jpeg:https://zurich.fablab.ch/wp-content/uploads/2022
 /10/IMG_2585-scaled.jpg
CATEGORIES:Workshops
LOCATION:FabLab Zürich\, Zimmerlistrasse 6\, Zürich\, 8004\, Schweiz
GEO:47.383947;8.510061
X-APPLE-STRUCTURED-LOCATION;VALUE=URI;X-ADDRESS=Zimmerlistrasse 6\, Zürich
 \, 8004\, Schweiz;X-APPLE-RADIUS=100;X-TITLE=FabLab Zürich:geo:47.383947,
 8.510061
END:VEVENT
BEGIN:VTIMEZONE
TZID:Europe/Zurich
X-LIC-LOCATION:Europe/Zurich
BEGIN:STANDARD
DTSTART:20241027T020000
TZOFFSETFROM:+0200
TZOFFSETTO:+0100
TZNAME:CET
END:STANDARD
END:VTIMEZONE
END:VCALENDAR