BEGIN:VCALENDAR
VERSION:2.0
PRODID:-//wp-events-plugin.com//7.2.3.1//EN
TZID:Europe/Zurich
X-WR-TIMEZONE:Europe/Zurich
BEGIN:VEVENT
UID:1445@zurich.fablab.ch
DTSTART;TZID=Europe/Zurich:20250425T090000
DTEND;TZID=Europe/Zurich:20250425T120000
DTSTAMP:20250422T195900Z
URL:https://zurich.fablab.ch/events/brother-machine-knitting-projekt-unter
 stuetzung-3/
SUMMARY:Brother Machine Knitting: Projekt-Unterstützung [Abgesagt]
DESCRIPTION:\nOb du einfach mit der Brother maschinestricken willst auf dem
  Flachbett oder Doppelbett\, dämpfen\, entwerfen\, overlocken oder ob du 
 fragen zu einer bestimmten Stricktechnik hast oder alles zusammen – wir 
 unterstützen dich bei deinem kreativen Strickprojekt mit der Brother Knit
 ting Machine. Komm vorbei und wir gucken das gemeinsam an.\nAUSSTATTUNG:\n
 4 Brother Knitting machines Flachbett\nBrother Doppelbetten\n2 Brother Kni
 tting machine gehackt mit AYAB\nelektrische Garnwickemaschine\nGarnwickler
  manuel\nDampfmaschine\nMerinowolle\nTransfertools\, Scheren\, Massbänder
 \, etc.\nOverlockmaschine\n\nVORAUSSETZUNG:\nDu kannst schon Maschinenstri
 cken mit der Brother Strickmaschine oder hast einen Einführungskurs mit d
 er Brother Strickmaschine im FabLab besucht.\n\nKURSLEITUNG: Martina Alter
 matt\n\nPREIS:\n\n 	CHF 70.- für Mitglieder des FabLab Zürich\, exklusiv
  Material.\n 	Nichtmitglieder zahlen CHF 75.-  exklusiv Material.\n\n&nbs
 p\;\n\nBilder zu anderem Kurs: " Pixelbilder Hacked Knittingmaschine"\n\n 
ATTACH;FMTTYPE=image/jpeg:https://zurich.fablab.ch/wp-content/uploads/2025
 /02/brother_strickmaschine2.jpg
CATEGORIES:Workshops
LOCATION:FabLab Zürich\, Zimmerlistrasse 6\, Zürich\, 8004\, Schweiz
GEO:47.383947;8.510061
X-APPLE-STRUCTURED-LOCATION;VALUE=URI;X-ADDRESS=Zimmerlistrasse 6\, Zürich
 \, 8004\, Schweiz;X-APPLE-RADIUS=100;X-TITLE=FabLab Zürich:geo:47.383947,
 8.510061
END:VEVENT
BEGIN:VTIMEZONE
TZID:Europe/Zurich
X-LIC-LOCATION:Europe/Zurich
BEGIN:DAYLIGHT
DTSTART:20250330T030000
TZOFFSETFROM:+0100
TZOFFSETTO:+0200
TZNAME:CEST
END:DAYLIGHT
END:VTIMEZONE
END:VCALENDAR