BEGIN:VCALENDAR
VERSION:2.0
PRODID:-//wp-events-plugin.com//7.2.3.1//EN
TZID:Europe/Zurich
X-WR-TIMEZONE:Europe/Zurich
BEGIN:VEVENT
UID:1472@zurich.fablab.ch
DTSTART;TZID=Europe/Zurich:20251211T130000
DTEND;TZID=Europe/Zurich:20251211T160000
DTSTAMP:20251124T150956Z
URL:https://zurich.fablab.ch/events/brother-machine-knitting-projekt-unter
 stuetzung-5/
SUMMARY:Brother Machine Knitting: Projekt-Unterstützung
DESCRIPTION:\nWenn du nach einem Einführungskurs auf der Brotherknitting m
 achine im FabLab Unterstützung willst\, ob du einfach mit der Brother mas
 chine stricken willst auf dem Flachbett\, dämpfen\, entwerfen\, overlocke
 n oder ob du fragen zu einer bestimmten Stricktechnik/Ideenfindung hast  
 – wir unterstützen dich bei deinem kreativen Strickprojekt mit der Brot
 her Knitting Machine.\nAUSSTATTUNG:\n4 Brother Knitting machines Flachbett
 \nBrother Doppelbetten\n2 Brother Knitting machine gehackt mit AYAB\nelekt
 rische Garnwickemaschine\nGarnwickler manuel\nDampfmaschine\nMerinowolle\n
 Transfertools\, Scheren\, Massbänder\, etc.\nOverlockmaschine\n\nVORAUSSE
 TZUNG:\nDu kannst schon Maschinenstricken mit der Brother Strickmaschine o
 der hast einen Einführungskurs mit der Brother Strickmaschine im FabLab b
 esucht.\n\nKURSLEITUNG: Martina Altermatt\n\nPREIS:\n\n 	CHF 70.- für Mit
 glieder des FabLab Zürich\, exklusiv Material.\n 	Nichtmitglieder zahlen 
 CHF 75.-  exklusiv Material.\n\n&nbsp\;\n\nBilder zu anderem Kurs: " Pixe
 lbilder Hacked Knittingmaschine"\n\n 
ATTACH;FMTTYPE=image/jpeg:https://zurich.fablab.ch/wp-content/uploads/2025
 /02/brother_strickmaschine2.jpg
CATEGORIES:Workshops
LOCATION:FabLab Zürich\, Zimmerlistrasse 6\, Zürich\, 8004\, Schweiz
GEO:47.383947;8.510061
X-APPLE-STRUCTURED-LOCATION;VALUE=URI;X-ADDRESS=Zimmerlistrasse 6\, Zürich
 \, 8004\, Schweiz;X-APPLE-RADIUS=100;X-TITLE=FabLab Zürich:geo:47.383947,
 8.510061
END:VEVENT
BEGIN:VTIMEZONE
TZID:Europe/Zurich
X-LIC-LOCATION:Europe/Zurich
BEGIN:STANDARD
DTSTART:20251026T020000
TZOFFSETFROM:+0200
TZOFFSETTO:+0100
TZNAME:CET
END:STANDARD
END:VTIMEZONE
END:VCALENDAR