BEGIN:VCALENDAR
VERSION:2.0
PRODID:-//wp-events-plugin.com//7.2.3.1//EN
TZID:Europe/Zurich
X-WR-TIMEZONE:Europe/Zurich
BEGIN:VEVENT
UID:1439@zurich.fablab.ch
DTSTART;TZID=Europe/Zurich:20250226T100000
DTEND;TZID=Europe/Zurich:20250226T170000
DTSTAMP:20250220T161914Z
URL:https://zurich.fablab.ch/events/brother-machine-knitting-socken/
SUMMARY:Brother Machine Knitting: Socken
DESCRIPTION: \nIn diesem 6-stündigen Sockenworkshop lernst du\, wie du vom
  Flachstricken zum 3D-Stricken übergehst an der Einbett-Strickmaschine\nu
 nd strickst dir dabei ein Paar Socken.\nDu wirst lernen\, wie man:\n- verk
 ürzte Reihen strickt\n- Bündchen stricken\n\nNiveau: Fortgeschrittene (D
 u hast bereits den Kurs\n"Brother Machine Knitting Einführung 1: Flachbet
 t "  oder\n"Brother Machine Knitting Einführung 2: Flachbett" besucht un
 d kennst die Grundlagen des Maschinenstrickens).\n\nVORHANDEN: Brother-Str
 ickmaschinen und Merino-Wolle.\n\nKURSLEITUNG: Martina Altermatt\n\nMittag
 spause: 13:00-14:00\nDu kannst dein Lunch mitbringen\, es es hat in der N
 ähe einen Avec-Shop oder Migrostankstelle.\n\nTEILNEHMENDE: max. 4 Person
 en\n\nKURSPREIS:\n\n 	CHF 170.- für Mitglieder des FabLab Zürich\, exklu
 siv Material.\n 	Nichtmitglieder zahlen CHF 180.-  exklusiv Material.\n\n
 &nbsp\;\n\nBilder zu anderem Kurs: " Pixelbilder Hacked Knittingmaschine"\
 n\n 
ATTACH;FMTTYPE=image/jpeg:https://zurich.fablab.ch/wp-content/uploads/2025
 /02/Socken_knittingmachine3.jpeg
CATEGORIES:Workshops
LOCATION:FabLab Zürich\, Zimmerlistrasse 6\, Zürich\, 8004\, Schweiz
GEO:47.383947;8.510061
X-APPLE-STRUCTURED-LOCATION;VALUE=URI;X-ADDRESS=Zimmerlistrasse 6\, Zürich
 \, 8004\, Schweiz;X-APPLE-RADIUS=100;X-TITLE=FabLab Zürich:geo:47.383947,
 8.510061
END:VEVENT
BEGIN:VTIMEZONE
TZID:Europe/Zurich
X-LIC-LOCATION:Europe/Zurich
BEGIN:STANDARD
DTSTART:20241027T020000
TZOFFSETFROM:+0200
TZOFFSETTO:+0100
TZNAME:CET
END:STANDARD
END:VTIMEZONE
END:VCALENDAR