BEGIN:VCALENDAR
VERSION:2.0
PRODID:-//wp-events-plugin.com//7.2.3.1//EN
TZID:Europe/Zurich
X-WR-TIMEZONE:Europe/Zurich
BEGIN:VEVENT
UID:1258@zurich.fablab.ch
DTSTART;TZID=Europe/Zurich:20220518T180000
DTEND;TZID=Europe/Zurich:20220518T190000
DTSTAMP:20220424T102821Z
URL:https://zurich.fablab.ch/events/einfuehrung-laser-schneiden-und-gravie
 ren-mit-lightburn-4/
SUMMARY:Einführung: Laser-schneiden und -gravieren mit LightBurn
DESCRIPTION:In dieser kostenlosen Einführung\, gehen wir die Arbeitsschrit
 te dieses Videos auf unseren Lasern durch. Gerne kannst du deinen eigenen 
 QR-Code bereits gemäss der Anleitung im Video vorbereiten\, bringe dann e
 infach das Lightburn Projektfile mit und wir zeigen dir\, wie du es lasern
  kannst.\n\nWir hoffen\, dass euch der Kurs inspiriert\, eigene Projekte a
 uf unserern Lasern zu gestalten.\n\nDie Teilnehmerzahl ist auf 4 Personen 
 beschränkt.\n\nVorkenntnisse: keine\nKosten: keine
ATTACH;FMTTYPE=image/jpeg:https://zurich.fablab.ch/wp-content/uploads/2022
 /04/LightBurnQRcode.jpg
CATEGORIES:Special
LOCATION:FabLab Zürich\, Zimmerlistrasse 6\, Zürich\, 8004\, Schweiz
GEO:47.383947;8.510061
X-APPLE-STRUCTURED-LOCATION;VALUE=URI;X-ADDRESS=Zimmerlistrasse 6\, Zürich
 \, 8004\, Schweiz;X-APPLE-RADIUS=100;X-TITLE=FabLab Zürich:geo:47.383947,
 8.510061
END:VEVENT
BEGIN:VTIMEZONE
TZID:Europe/Zurich
X-LIC-LOCATION:Europe/Zurich
BEGIN:DAYLIGHT
DTSTART:20220327T030000
TZOFFSETFROM:+0100
TZOFFSETTO:+0200
TZNAME:CEST
END:DAYLIGHT
END:VTIMEZONE
END:VCALENDAR