BEGIN:VCALENDAR
VERSION:2.0
PRODID:-//wp-events-plugin.com//7.2.3.1//EN
TZID:Europe/Zurich
X-WR-TIMEZONE:Europe/Zurich
BEGIN:VEVENT
UID:1325@zurich.fablab.ch
DTSTART;TZID=Europe/Zurich:20230511T200000
DTEND;TZID=Europe/Zurich:20230511T210000
DTSTAMP:20230415T200920Z
URL:https://zurich.fablab.ch/events/einfuehrung-shaper-origin-plate-and-wo
 rkstation/
SUMMARY:Einführung: Shaper Origin Plate and Workstation
DESCRIPTION:Kursbeschreibung\nIn dieser Einführung schauen wir uns die Bed
 ienung des Shaper Origin sowie den Einsatz der Plate sowie der Workstatio
 n an.\nDetails dazu findet ihr auch hier: http://wiki.zurich.fablab.ch/Sha
 perOriginWikiseite\n\nDie Teilnehmerzahl ist auf 4 Personen beschränkt.\n
 \nVorkenntnisse: keine\nKosten\nMitglieder: kostenlos\nExterne: 20\,- CHF
ATTACH;FMTTYPE=image/jpeg:https://zurich.fablab.ch/wp-content/uploads/2022
 /04/zapfen.png
CATEGORIES:Special
LOCATION:FabLab Zürich\, Zimmerlistrasse 6\, Zürich\, 8004\, Schweiz
GEO:47.383947;8.510061
X-APPLE-STRUCTURED-LOCATION;VALUE=URI;X-ADDRESS=Zimmerlistrasse 6\, Zürich
 \, 8004\, Schweiz;X-APPLE-RADIUS=100;X-TITLE=FabLab Zürich:geo:47.383947,
 8.510061
END:VEVENT
BEGIN:VTIMEZONE
TZID:Europe/Zurich
X-LIC-LOCATION:Europe/Zurich
BEGIN:DAYLIGHT
DTSTART:20230326T030000
TZOFFSETFROM:+0100
TZOFFSETTO:+0200
TZNAME:CEST
END:DAYLIGHT
END:VTIMEZONE
END:VCALENDAR