BEGIN:VCALENDAR
VERSION:2.0
PRODID:-//wp-events-plugin.com//7.2.3.1//EN
TZID:Europe/Zurich
X-WR-TIMEZONE:Europe/Zurich
BEGIN:VEVENT
UID:1449@zurich.fablab.ch
DTSTART;TZID=Europe/Zurich:20250828T180000
DTEND;TZID=Europe/Zurich:20250828T200000
DTSTAMP:20250804T091459Z
URL:https://zurich.fablab.ch/events/fablab-zuerich-mini-workshop/
SUMMARY:FABLAB Zürich Mini-Workshop
DESCRIPTION:An jedem letzten Donnerstag-Abend des Monats findet im Fablab Z
 ürich ein Mini-Workshop statt. Erfahrene Labmanager teilen ihr Wissen zu 
 Themen wie Lasern\, Fräsen\, 3D-Drucken\, 3D-Scannen\, Plotten uvm.\n\nAu
 ch Nicht-Mitglieder sind eingeladen um die tollen Möglichkeiten des Fabla
 b kennenzulernen\, der Eintritt ist frei. Bitte über dieses Meetup regist
 rieren: LINK\n\nDas Fokus-Thema heute:\n\nLasern mit Rotationsachse\, grav
 ieren einer Wasserflasche mit eigenen Motiven.\n\nAuch auf Meetup zu finde
 n.
ATTACH;FMTTYPE=image/jpeg:https://zurich.fablab.ch/wp-content/uploads/2025
 /07/IMG_0072-rotated.jpg
CATEGORIES:Meetups,Workshops
LOCATION:FabLab Zürich\, Zimmerlistrasse 6\, Zürich\, 8004\, Schweiz
GEO:47.383947;8.510061
X-APPLE-STRUCTURED-LOCATION;VALUE=URI;X-ADDRESS=Zimmerlistrasse 6\, Zürich
 \, 8004\, Schweiz;X-APPLE-RADIUS=100;X-TITLE=FabLab Zürich:geo:47.383947,
 8.510061
END:VEVENT
BEGIN:VTIMEZONE
TZID:Europe/Zurich
X-LIC-LOCATION:Europe/Zurich
BEGIN:DAYLIGHT
DTSTART:20250330T030000
TZOFFSETFROM:+0100
TZOFFSETTO:+0200
TZNAME:CEST
END:DAYLIGHT
END:VTIMEZONE
END:VCALENDAR