BEGIN:VCALENDAR
VERSION:2.0
PRODID:-//wp-events-plugin.com//7.2.3.1//EN
TZID:Europe/Zurich
X-WR-TIMEZONE:Europe/Zurich
BEGIN:VEVENT
UID:1091@zurich.fablab.ch
DTSTART;TZID=Europe/Zurich:20210306T090000
DTEND;TZID=Europe/Zurich:20210306T160000
DTSTAMP:20210224T185103Z
URL:https://zurich.fablab.ch/events/fraeskurs-basic-tageskurs-41/
SUMMARY:Abgesagt: Fräskurs Basic (Tageskurs)
DESCRIPTION:
ATTACH;FMTTYPE=image/jpeg:https://zurich.fablab.ch/wp-content/uploads/2019
 /06/99D93DA5-D794-4380-BCE4-03A370883298-scaled.jpeg
CATEGORIES:Fräskurse
LOCATION:FabLab Zürich\, Zimmerlistrasse 6\, Zürich\, 8004\, Schweiz
GEO:47.383947;8.510061
X-APPLE-STRUCTURED-LOCATION;VALUE=URI;X-ADDRESS=Zimmerlistrasse 6\, Zürich
 \, 8004\, Schweiz;X-APPLE-RADIUS=100;X-TITLE=FabLab Zürich:geo:47.383947,
 8.510061
END:VEVENT
BEGIN:VTIMEZONE
TZID:Europe/Zurich
X-LIC-LOCATION:Europe/Zurich
BEGIN:STANDARD
DTSTART:20201025T020000
TZOFFSETFROM:+0200
TZOFFSETTO:+0100
TZNAME:CET
END:STANDARD
END:VTIMEZONE
END:VCALENDAR