BEGIN:VCALENDAR
VERSION:2.0
PRODID:-//wp-events-plugin.com//7.2.3.1//EN
TZID:Europe/Zurich
X-WR-TIMEZONE:Europe/Zurich
BEGIN:VEVENT
UID:1367@zurich.fablab.ch
DTSTART;TZID=Europe/Zurich:20240409T190000
DTEND;TZID=Europe/Zurich:20240409T220000
DTSTAMP:20240320T182511Z
URL:https://zurich.fablab.ch/events/fusion-360-basic/
SUMMARY:Fusion 360 Basic
DESCRIPTION:Einführung in die Oberfläche des Programms. Du lernst am eige
 nen Computer das Planen\, Vermassen und Konstruieren mehrerer Formen im CA
 D Programm Fusion 360. Wir bauen zusammen Schritt für Schritt Exemplarisc
 he Körper auf und lernen so Entwicklungs- und Editing Grundlagen kennen. 
 Dieser Kurs bietet eine erste Orientierung über die Grundfunktionen des P
 rogramms. 
ATTACH;FMTTYPE=image/jpeg:https://zurich.fablab.ch/wp-content/uploads/2024
 /03/Kursangebot-Maik6.jpg
CATEGORIES:Software,Workshops
LOCATION:FabLab Zürich\, Zimmerlistrasse 6\, Zürich\, 8004\, Schweiz
GEO:47.383947;8.510061
X-APPLE-STRUCTURED-LOCATION;VALUE=URI;X-ADDRESS=Zimmerlistrasse 6\, Zürich
 \, 8004\, Schweiz;X-APPLE-RADIUS=100;X-TITLE=FabLab Zürich:geo:47.383947,
 8.510061
END:VEVENT
BEGIN:VTIMEZONE
TZID:Europe/Zurich
X-LIC-LOCATION:Europe/Zurich
BEGIN:DAYLIGHT
DTSTART:20240331T030000
TZOFFSETFROM:+0100
TZOFFSETTO:+0200
TZNAME:CEST
END:DAYLIGHT
END:VTIMEZONE
END:VCALENDAR