BEGIN:VCALENDAR
VERSION:2.0
PRODID:-//wp-events-plugin.com//7.2.3.1//EN
TZID:Europe/Zurich
X-WR-TIMEZONE:Europe/Zurich
BEGIN:VEVENT
UID:1319@zurich.fablab.ch
DTSTART;TZID=Europe/Zurich:20230328T173000
DTEND;TZID=Europe/Zurich:20230328T203000
DTSTAMP:20230309T135653Z
URL:https://zurich.fablab.ch/events/jacquardtechnik-doppelbett-strickmasch
 ine-doublebed-machine-knitting/
SUMMARY:Jacquardtechnik: Doppelbett-Strickmaschine-Doublebed Machine Knitti
 ng
DESCRIPTION:\n\nSchal mit Jacquardmuster mit gehackter digitaler Doppelbett
 -Strickmaschine.\nVORAUSSETZUNGEN:\nBesuchter: Machine Knitting Kurs: basi
 cs.\n(Du hast im FabLab schon gelernt 2-farbig mit der gehackten Strickmas
 chine zu stricken).\nDesign- Entwurf mit pixelorientierter Software wie z.
 B. Gimp  oder Photoshop.\nDu kannst eine Fotografie als Muster nehmen ode
 r eine Mustergrafik entwerfen und ein kleines Muster an der Strickmaschine
  stricken.\n\nDie digitalen Strickmaschinen sind mit einem Arduino-AYAB un
 d einem Rasperry-Pi gesteuert.\nUm selbständig deine Projekte an der geha
 ckten Brother KH-930 Doppelbett-Strickmaschine zu realisieren lernst du\, 
 wie du einen schönen Maschenanschlag machst\, wie du abkettest und wie du
  die Software AYAB bedienst.\n\nNach dem Workshop kennst du den Ablauf und
  bist du befähigt auf den digitalen Strickmaschinen im FabLab selbständi
 ge Jaquardmuster zu stricken\, wenn du FabLab-Mitglied bist.\nVORHANDEN:\n
 - Feine Merinowolle in verschiedene Farben in der geeigneten Materialstär
 ke speziell für Strickmaschinen. Schön weich zum Selbstkostenpreis.\n- S
 chafwolle\n- machine &amp\; hacked knitting machine with the AYAB Software
 .\n\nDu kannst auch deine eigene Wolle mitbringen.\nDie Wolle müsste sehr
  fein\, schön gezwirnt sein für Nadelstärke 2.5\nz.B.  ca. 270 Laufmet
 er/50g oder feiner. Keine Noppenwolle oder Mohairwolle mit Härchen. \;))\
 n\n&nbsp\;\n\nZur Stärkung: Aper/Znüni und Tee. \;-))\nKOSTEN\nfür FabL
 ab Mitglieder exklusiv Material: Fr. 170.00\nfür Nichtmitglieder exklusiv
  Material: Fr. 190.00\n\nKursleitung: Martina\, martina.altermatt ät zuri
 ch.fablab.ch\nBuchung von weiteren betreuten Übungstagen ist auf Anfrage 
 möglich\, direkt an Martina schreiben:\nmartina.altermatt ät zurich.fabl
 ab.ch\n&nbsp\;
ATTACH;FMTTYPE=image/jpeg:https://zurich.fablab.ch/wp-content/uploads/2018
 /01/jacquardmuster_machine_knitting_alpaca.jpg
CATEGORIES:Workshops
LOCATION:FabLab Zürich\, Zimmerlistrasse 6\, Zürich\, 8004\, Schweiz
GEO:47.383947;8.510061
X-APPLE-STRUCTURED-LOCATION;VALUE=URI;X-ADDRESS=Zimmerlistrasse 6\, Zürich
 \, 8004\, Schweiz;X-APPLE-RADIUS=100;X-TITLE=FabLab Zürich:geo:47.383947,
 8.510061
END:VEVENT
BEGIN:VTIMEZONE
TZID:Europe/Zurich
X-LIC-LOCATION:Europe/Zurich
BEGIN:DAYLIGHT
DTSTART:20230326T030000
TZOFFSETFROM:+0100
TZOFFSETTO:+0200
TZNAME:CEST
END:DAYLIGHT
END:VTIMEZONE
END:VCALENDAR