BEGIN:VCALENDAR
VERSION:2.0
PRODID:-//wp-events-plugin.com//7.2.3.1//EN
TZID:Europe/Zurich
X-WR-TIMEZONE:Europe/Zurich
BEGIN:VEVENT
UID:1360@zurich.fablab.ch
DTSTART;TZID=Europe/Zurich:20240224T090000
DTEND;TZID=Europe/Zurich:20240224T150000
DTSTAMP:20240220T180206Z
URL:https://zurich.fablab.ch/events/kinterate-kurs-1-muetze-stricken/
SUMMARY:Kniterate Machine Knitting Kurs 1: Mütze stricken
DESCRIPTION:Kniterate Mütze stricken\nDu erhälst einen Einblick in die Be
 dienung der neuen Kniterate: die digitale Strickmaschine.\nSie hat zwei St
 rickbetten mit je 252 Nadeln und strickt vollautomatisch.\nDu erlebst wie 
 die Kniterate funktioniert und deine schöne 2-farbige Mütze strickt.\nDi
 e Mütze wird mit feinem Merinowolle gestrickt.\n\nWir erklären Folgendes
 :\n\n 	- Garndicken\n 	- Wollgarn auf Konen wickeln\n 	- einfädeln der Wo
 llfäden.\n 	- Fadenspannung\n 	- anstricken\n 	- Aufbau der Software\n 	-
  Bedienung und Handhabung während des Strickens\n 	- Benutzung des Linker
 s\n\nDieser Kurs ist besonders für diejenigen geeignet\, die noch keine o
 der nur wenig Erfahrung mit der Kniterate.\n\nMaterial: Merinowolle sehr f
 ein\n\nKursleitung:\nDirk Altermatt\, Martina Altermatt\n\nZUR STÄRKUNG:\
 nkleiner Imbiss Tee oder Kaffe.\nKurspreis\n\n 	CHF 160.- für Mitglieder 
 des FabLab Zürich\n 	Nichtmitglieder zahlen CHF 170.-\n\n\n\n&nbsp\;\n\n&
 nbsp\;\n\nPS: Wir planen weitere Kniterate-Strickmaschinen Workshops.\n\n&
 nbsp\;
ATTACH;FMTTYPE=image/jpeg:https://zurich.fablab.ch/wp-content/uploads/2024
 /02/IMG_9420-scaled.jpeg
CATEGORIES:Workshops
LOCATION:FabLab Zürich\, Zimmerlistrasse 6\, Zürich\, 8004\, Schweiz
GEO:47.383947;8.510061
X-APPLE-STRUCTURED-LOCATION;VALUE=URI;X-ADDRESS=Zimmerlistrasse 6\, Zürich
 \, 8004\, Schweiz;X-APPLE-RADIUS=100;X-TITLE=FabLab Zürich:geo:47.383947,
 8.510061
END:VEVENT
BEGIN:VTIMEZONE
TZID:Europe/Zurich
X-LIC-LOCATION:Europe/Zurich
BEGIN:STANDARD
DTSTART:20231029T020000
TZOFFSETFROM:+0200
TZOFFSETTO:+0100
TZNAME:CET
END:STANDARD
END:VTIMEZONE
END:VCALENDAR