BEGIN:VCALENDAR
VERSION:2.0
PRODID:-//wp-events-plugin.com//7.2.3.1//EN
TZID:Europe/Zurich
X-WR-TIMEZONE:Europe/Zurich
BEGIN:VEVENT
UID:1373@zurich.fablab.ch
DTSTART;TZID=Europe/Zurich:20240502T190000
DTEND;TZID=Europe/Zurich:20240502T210000
DTSTAMP:20240318T175136Z
URL:https://zurich.fablab.ch/events/kintsugi-klimawerkstatt-6/
SUMMARY:Kintsugi: Klimawerkstatt
DESCRIPTION:\n\nUnser Workshop ist das Neue Kintsugi\, eine neue Art Porzel
 lan zu leimen\, basierend auf der alten Kintsugitechnik. The beauty of an 
 imperfect repair. Kintsugi\, die traditionelle\, alte japanische Art\, ges
 prungene Keramik zu reparieren\, zeugt nicht nur von viel Kunstfertigkeit.
  Sie ermöglicht auch einen tiefen Einblick in die japanische Wabi-Sabi-Ä
 sthetik (die Schönheit des Fehlerhaften) und die Wertschätzung der Dinge
 .\nWICHTIG: Nimm deine defekte Tasse\, Teller selber mit und repariere sie
 .\n\n\n\n\n\n\n\n\n[caption id="attachment_7571" align="alignleft" width="
 300"] Beispiel: zerschlagenes Porzellantasse[/caption]\nzerschlagenes Gesc
 hirr?\n\n\n\n\nRepariere es...\n\n\n\n\n[caption id="attachment_7573" alig
 n="alignnone" width="225"] Beispiel: zerschlagene Porzellantasse[/caption]
 \nUnd freu dich daran :)\n\n\n\n\n\n\n\n\nAnzahl Teilnehmer:innen: max. 10
  Personen\nKintsugi eignet sich gut für angeschlagenen Kanten deiner Kera
 miktasse  oder deinem zerbrochen Teller. Oder wenn deine Tasse in 2 bis 3
  Einzelteile zersplittert ist.Wichtig:Je mehr Teile\, desto aufwändiger w
 ird deine Reperatur.\nAlso los\, nimm deine zerbrochenen Teile mit samt de
 inen Freund:innen und hab eine gute Zeit. \nKURSPREIS:- Für Mitglieder 
 FabLab Zürich CHF 40.-/Person- Nichtmitglieder CHF 50.-/Person\nUnverbind
 liche Anfragen für Gruppenkurse via E-Mail an vorstand ät zurich.fablab.
 ch\n&nbsp\;
ATTACH;FMTTYPE=image/jpeg:https://zurich.fablab.ch/wp-content/uploads/2021
 /03/kintsugi_fablab_zurich_reperatur03-scaled.jpg
CATEGORIES:Klimawerkstatt,Workshops
LOCATION:FabLab Zürich\, Zimmerlistrasse 6\, Zürich\, 8004\, Schweiz
GEO:47.383947;8.510061
X-APPLE-STRUCTURED-LOCATION;VALUE=URI;X-ADDRESS=Zimmerlistrasse 6\, Zürich
 \, 8004\, Schweiz;X-APPLE-RADIUS=100;X-TITLE=FabLab Zürich:geo:47.383947,
 8.510061
END:VEVENT
BEGIN:VTIMEZONE
TZID:Europe/Zurich
X-LIC-LOCATION:Europe/Zurich
BEGIN:DAYLIGHT
DTSTART:20240331T030000
TZOFFSETFROM:+0100
TZOFFSETTO:+0200
TZNAME:CEST
END:DAYLIGHT
END:VTIMEZONE
END:VCALENDAR