BEGIN:VCALENDAR
VERSION:2.0
PRODID:-//wp-events-plugin.com//7.2.3.1//EN
TZID:Europe/Zurich
X-WR-TIMEZONE:Europe/Zurich
BEGIN:VEVENT
UID:1460@zurich.fablab.ch
DTSTART;TZID=Europe/Zurich:20251126T190000
DTEND;TZID=Europe/Zurich:20251126T210000
DTSTAMP:20251126T120423Z
URL:https://zurich.fablab.ch/events/kintsugi-repair-thursday-klimawerkstat
 t/
SUMMARY:Kintsugi: "REPAIR THURSDAY+"
DESCRIPTION:\nZürich zeigt rund um den Black Friday\, wie Kreislaufwirtsch
 aft im Alltag funktioniert.\nDer Repair Thursday macht sichtbar\, was Zür
 ich stark macht: Menschen\, Orte und Initiativen\, die Dinge erhalten stat
 t zu ersetzen.\nRund um den Black Friday öffnen Werkstätten\, Ateliers u
 nd Geschäfte ihre Türen und zeigen\, wie Reparatur\, Handwerk und Wissen
  weitergegeben werden können.Ob Kleidung\, Elektronik oder Möbel – üb
 erall in der Stadt wird geflickt\, gelernt und diskutiert\, so auch im Fab
 lab Zürich.\nUnser Workshop beinhaltet  das Neue Kintsugi\, eine neue Ar
 t Porzellan zu leimen\, basierend auf der alten Kintsugitechnik.Wir werden
  es mit einem 2-komponenten Kunststoff machen.The beauty of an imperfect r
 epair. Kintsugi\, die traditionelle\, alte japanische Art\, gesprungene Ke
 ramik zu reparieren\, zeugt nicht nur von viel Kunstfertigkeit. Sie ermög
 licht auch einen tiefen Einblick in die japanische Wabi-Sabi-Ästhetik (di
 e Schönheit des Fehlerhaften) und die Wertschätzung der Dinge.\nWICHTIG:
  Nimm deine defekte Tasse\, Teller selber mit und repariere sie.\n\n\n\n\n
 \n\n\n[caption id="attachment_7571" align="alignleft" width="300"] Beispie
 l: zerschlagenes Porzellantasse[/caption]\nzerschlagenes Geschirr?\n\n\n\n
 \nRepariere es...\n\n\n\n\n[caption id="attachment_7573" align="alignnone"
  width="225"] Beispiel: zerschlagene Porzellantasse[/caption]\nUnd freu di
 ch daran :)\n\n\n\n\n\n\n\n\nAnzahl Teilnehmer:innen: ca. 8 Personen\nWICH
 TIG:Nimm deine defekte Tasse\, Teller selber mit.\nKintsugi eignet sich gu
 t für angeschlagenen Kanten deiner Keramiktasse  oder deinem zerbrochen 
 Teller. Oder wenn deine Tasse in 2 bis 3 Einzelteile zersplittert ist.Wich
 tig:Je mehr Teile\, desto aufwändiger wird deine Reperatur.\nAlso los\, n
 imm deine zerbrochenen Teile mit samt deinen Freund:innen und hab eine gu
 te Zeit. \nKURSPREIS:- Für Mitglieder FabLab Zürich CHF 40.-/Person- Ni
 chtmitglieder CHF 50.-/Person\nUnverbindliche Anfragen für Gruppenkurse v
 ia E-Mail an vorstand ät zurich.fablab.ch\n&nbsp\;
ATTACH;FMTTYPE=image/jpeg:https://zurich.fablab.ch/wp-content/uploads/2021
 /03/kintsugi_fablab_zurich_reperatur03-scaled.jpg
CATEGORIES:Klimawerkstatt,Workshops
LOCATION:FabLab Zürich\, Zimmerlistrasse 6\, Zürich\, 8004\, Schweiz
GEO:47.383947;8.510061
X-APPLE-STRUCTURED-LOCATION;VALUE=URI;X-ADDRESS=Zimmerlistrasse 6\, Zürich
 \, 8004\, Schweiz;X-APPLE-RADIUS=100;X-TITLE=FabLab Zürich:geo:47.383947,
 8.510061
END:VEVENT
BEGIN:VTIMEZONE
TZID:Europe/Zurich
X-LIC-LOCATION:Europe/Zurich
BEGIN:STANDARD
DTSTART:20251026T020000
TZOFFSETFROM:+0200
TZOFFSETTO:+0100
TZNAME:CET
END:STANDARD
END:VTIMEZONE
END:VCALENDAR