BEGIN:VCALENDAR
VERSION:2.0
PRODID:-//wp-events-plugin.com//7.2.3.1//EN
TZID:Europe/Zurich
X-WR-TIMEZONE:Europe/Zurich
BEGIN:VEVENT
UID:1372@zurich.fablab.ch
DTSTART;TZID=Europe/Zurich:20240430T173000
DTEND;TZID=Europe/Zurich:20240430T233000
DTSTAMP:20240326T094621Z
URL:https://zurich.fablab.ch/events/kniterate-machine-knitting-kurs-2-stir
 nband-in-jacquardtechnik/
SUMMARY:NEU Kniterate Machine Knitting Kurs 2: Stirnband in Jacquardtechnik
DESCRIPTION:\nKniterate Stirnband in Jacquardtechnik stricken\nDu erhälst 
 einen Einblick in die Bedienung der neuen Kniterate:\nDie digitale Strickm
 aschine.\nSie hat zwei Strickbetten mit je 252 Nadeln und strickt vollauto
 matisch.\nDu erlebst wie die Kniterate funktioniert und dein schönes 2-fa
 rbiges Stirnband in Jacquardtechnik strickt.\nEs wird mit feiner Merinowol
 le gestrickt.\nPIXELBILD\nDu zeichnest ein 2-farbiges\, schwarz-weisses Pi
 xelbild in deinem gewünschten Muster und speicherst es als .png indexed a
 b.\nGrösse des Bildes hat diese Masse: Breite: 40px\, Höhe: 272px\nINHAL
 T:\n- Garndicken\n- Wollgarn auf Konen wickeln\n- einfädeln der Wollfäde
 n.\n- Fadenspannung\n- anstricken\n- Aufbau der Software\n- Bedienung und 
 Handhabung während des Strickens\n- Benutzung des Linkers\n\nDieser Kurs 
 ist besonders für diejenigen geeignet\, die noch keine oder nur wenig Erf
 ahrung mit der Kniterate haben.\n\nNiveau:\nidealerweise has du schon den 
 "Brother Machine Knitting Kurs : basics 1 | Pixel-Bilder" besucht\,\nist a
 ber kein muss.\n\nMaterial: Merinowolle aus dem FabLab\n\nKursleitung:\nDi
 rk Altermatt\, Martina Altermatt\n\nZUR STÄRKUNG:\nkleiner Imbiss Tee ode
 r Kaffe.\n\n\n\nPS: Wir planen weitere Kniterate-Strickmaschinen Workshops
 .\n\n&nbsp\;
ATTACH;FMTTYPE=image/jpeg:https://zurich.fablab.ch/wp-content/uploads/2024
 /03/5AD43D6C-68E2-49F0-8F1E-43C45476FB62_1_105_c.jpeg
CATEGORIES:Workshops
LOCATION:FabLab Zürich\, Zimmerlistrasse 6\, Zürich\, 8004\, Schweiz
GEO:47.383947;8.510061
X-APPLE-STRUCTURED-LOCATION;VALUE=URI;X-ADDRESS=Zimmerlistrasse 6\, Zürich
 \, 8004\, Schweiz;X-APPLE-RADIUS=100;X-TITLE=FabLab Zürich:geo:47.383947,
 8.510061
END:VEVENT
BEGIN:VTIMEZONE
TZID:Europe/Zurich
X-LIC-LOCATION:Europe/Zurich
BEGIN:DAYLIGHT
DTSTART:20240331T030000
TZOFFSETFROM:+0100
TZOFFSETTO:+0200
TZNAME:CEST
END:DAYLIGHT
END:VTIMEZONE
END:VCALENDAR