BEGIN:VCALENDAR
VERSION:2.0
PRODID:-//wp-events-plugin.com//7.2.3.1//EN
TZID:Europe/Zurich
X-WR-TIMEZONE:Europe/Zurich
BEGIN:VEVENT
UID:1371@zurich.fablab.ch
DTSTART;TZID=Europe/Zurich:20240328T180000
DTEND;TZID=Europe/Zurich:20240328T210000
DTSTAMP:20240326T094524Z
URL:https://zurich.fablab.ch/events/kniterate-machine-knitting-kurs-3-scha
 l-in-brioche-technik/
SUMMARY:NEU Kniterate Machine Knitting Kurs 3: Schal in Brioche-Technik
DESCRIPTION:\nKniterate Schal in Brioche-Technik stricken\nDu erhälst eine
 n Einblick in die Bedienung der neuen Kniterate:\nDie digitale Strickmasch
 ine.\nSie hat zwei Strickbetten mit je 252 Nadeln und strickt vollautomati
 sch.\nDu erlebst wie die Kniterate funktioniert und deinen schönen 2-farb
 ige Schal strickt.\nDer Schal wird in dieser  Strickart so schön weich\,
  eben so wie wenn du in ein Brioche beissen würdest.\nEs wird mit feiner 
 Merinowolle gestrickt.\nINHALT:\n\n 	- Garndicken\n 	- Auswahl der Farben\
 n 	- Wollgarn auf Konen wickeln\n 	- einfädeln der Wollfäden.\n 	- Faden
 spannung\n 	- anstricken\n 	- Aufbau der Software\n 	- Bedienung und Handh
 abung während des Strickens\n 	- Benutzung des Linkers\n\nDieser Kurs ist
  besonders für diejenigen geeignet\, die noch keine oder nur wenig Erfahr
 ung mit der Kniterate haben.\n\nMaterial: Merinowolle vom FabLab\n\nKursle
 itung:\nMartina Altermatt\n\nZUR STÄRKUNG:\nkleiner Imbiss Tee oder Kaffe
 .\n\n   \n\n&nbsp\;\n\n&nbsp\;\n\nPS: Wir planen weitere Kniterate-Strickm
 aschinen Workshops.\n\n&nbsp\;
ATTACH;FMTTYPE=image/jpeg:https://zurich.fablab.ch/wp-content/uploads/2024
 /02/IMG_9420-scaled.jpeg
CATEGORIES:Workshops
LOCATION:FabLab Zürich\, Zimmerlistrasse 6\, Zürich\, 8004\, Schweiz
GEO:47.383947;8.510061
X-APPLE-STRUCTURED-LOCATION;VALUE=URI;X-ADDRESS=Zimmerlistrasse 6\, Zürich
 \, 8004\, Schweiz;X-APPLE-RADIUS=100;X-TITLE=FabLab Zürich:geo:47.383947,
 8.510061
END:VEVENT
BEGIN:VTIMEZONE
TZID:Europe/Zurich
X-LIC-LOCATION:Europe/Zurich
BEGIN:STANDARD
DTSTART:20231029T020000
TZOFFSETFROM:+0200
TZOFFSETTO:+0100
TZNAME:CET
END:STANDARD
END:VTIMEZONE
END:VCALENDAR