BEGIN:VCALENDAR
VERSION:2.0
PRODID:-//wp-events-plugin.com//7.2.3.1//EN
TZID:Europe/Zurich
X-WR-TIMEZONE:Europe/Zurich
BEGIN:VEVENT
UID:1334@zurich.fablab.ch
DTSTART;TZID=Europe/Zurich:20231109T173000
DTEND;TZID=Europe/Zurich:20231109T210000
DTSTAMP:20231030T144642Z
URL:https://zurich.fablab.ch/events/machine-knitting-kurs-basics-1-zwei-fa
 rbige-pixel-bilder-2/
SUMMARY:Machine Knitting Kurs: basics 1 | Pixel-Bilder
DESCRIPTION:\n\nUm selbständig deine Projekte an der Flachbettstrickmachin
 e von Brother  zu realisieren\, benötigst du  ein paar Grundkenntnisse\
 ,\ndie du in diesem Workshop erlernen wirst.\nWir arbeten an den "gehackte
 "  Computer Strickmaschinen (Feinstrickmaschine).\nDu lernst\, wie du an 
 der Strickmaschine digitale Zeichnungen oder digitale Fotografien 2-farbig
  strickst\,\neinen Anschlag machst und wie du weiter strickst und wie du d
 ie ganzen Maschen abnimmst.\n\nDu lernst wie du Maschen zunehmen kannst od
 er wie du die  Maschenanzahl verringern kannst.\nGesteuert wird die Masch
 ine mit einem Arduino. Die Bilder werden über einen Rasperry-Pi hochgelad
 en.\n\nDu wirst eine kleine Probe erstellen und den Workflow kennen lernen
 . Die kleine Probe kannst du mit nach Hause nehmen.\n\nWas ist eine Strick
 maschine? Was kann ich damit tun? Was ist eine gehackte Strickmaschine?\nW
 as sollte ich wissen\, um eine Strickmaschine zu gebrauchen.\n\nThe Brothe
 r ist eine "gehackte"  Computer Strickmaschine (Feinstrickmaschine). Es i
 st eine Flachbettstrickmaschine mit einer Breite von 200 Nadeln. \nEs ist
  möglich direktes Stricken von PNG-Files zum fertigen Produkt.\n\nVORAUSS
 ETZUNGEN: Photoshop oder Gimp\n\nMITBRINGEN: Labtop\, wenn möglich mit pi
 xelbasierter Software wie z.B. Gimp oder Photoshop etc.\n\nVORHANDEN:\n- 
  Alpakawolle oder Schafwolle in der richtigen Materialstärke\n- Hacked k
 nitting machine with the AYAB software (www.ayab-knitting.com)\n\nKURSLEIT
 UNG: Martina Altermatt\n\nZUR STÄRKUNG: kleiner Imbiss Tee oder Kaffe.\n\
 nTEILNEHMERZAHL: max. 4 Personen\n\nKURSPREIS:\n\n 	CHF 140.- für Mitglie
 der des FabLab Zürich\, exklusiv Material.\n 	Nichtmitglieder zahlen CHF 
 160.-  exklusiv Material.\n\nNach diesemWorkshop kannst du im Fablab Zür
 ich starten und mit der Flachbett-Strickmaschine deine Projekte verwirklic
 hen.\nz.B.:  Frühlingspullover. Mützen oder Pulswärmer\, Schal...\n\n 
ATTACH;FMTTYPE=image/jpeg:https://zurich.fablab.ch/wp-content/uploads/2021
 /01/790B71C6-9A36-4FCD-A652-2C9919D4A62B_1_201_a-scaled.jpeg
CATEGORIES:Workshops
LOCATION:FabLab Zürich\, Zimmerlistrasse 6\, Zürich\, 8004\, Schweiz
GEO:47.383947;8.510061
X-APPLE-STRUCTURED-LOCATION;VALUE=URI;X-ADDRESS=Zimmerlistrasse 6\, Zürich
 \, 8004\, Schweiz;X-APPLE-RADIUS=100;X-TITLE=FabLab Zürich:geo:47.383947,
 8.510061
END:VEVENT
BEGIN:VTIMEZONE
TZID:Europe/Zurich
X-LIC-LOCATION:Europe/Zurich
BEGIN:STANDARD
DTSTART:20231029T020000
TZOFFSETFROM:+0200
TZOFFSETTO:+0100
TZNAME:CET
END:STANDARD
END:VTIMEZONE
END:VCALENDAR