BEGIN:VCALENDAR
VERSION:2.0
PRODID:-//wp-events-plugin.com//7.2.3.1//EN
TZID:Europe/Zurich
X-WR-TIMEZONE:Europe/Zurich
BEGIN:VEVENT
UID:1333@zurich.fablab.ch
DTSTART;TZID=Europe/Zurich:20231115T173000
DTEND;TZID=Europe/Zurich:20231115T203000
DTSTAMP:20231113T171827Z
URL:https://zurich.fablab.ch/events/machine-knitting-kurs-basics-1-zwei-fa
 rbige-pixel-bilder/
SUMMARY:Machine Knitting Kurs: Zero Waste Spüllappen
DESCRIPTION: \n\nDu strickst einen Zero Waste Baumwoll-Spüllappen. du kann
 st ihn nach Gebrauch waschen und ihn wieder einsetzen. Immer wieder\, ohne
  dass Mikroplastik weggeschwemmt wird.\n\nIn diesem Workshop lernst du ein
 e Technik an der Einbett-Grobstrickmaschine.\nDer Spüllappen wird mit  B
 aumwolle gestrickt. Wir haben im FabLab schön dickes Garn in der richtige
 n Garnstärke dafür: Baumwolle gekämmt.\n\nWir arbeiten an der Grobstric
 kmaschine.\nDu lernst:\n\n- Maschen anschlagen\n- 2-farbig stricken mit Lo
 chkarte\n- Abschluss\, abnehmen\n\nNiveau: Anfänger:innen\n\nKURSLEITUNG:
  Martina Altermatt\n\nZUR STÄRKUNG: Snack Tee oder Kaffe.\n\nTEILNEHMERZA
 HL: max. 2 Personen\n\nKURSPREIS:\n\n 	CHF 95.00 für Mitglieder des FabLa
 b Zürich\, exklusiv Material.\n 	Nichtmitglieder zahlen CHF 140.- exklusi
 v Material.\n\n&nbsp\;\n\n&nbsp\;
ATTACH;FMTTYPE=image/jpeg:https://zurich.fablab.ch/wp-content/uploads/2023
 /10/spuellapen_02-scaled.jpeg
CATEGORIES:Klimawerkstatt,Workshops
LOCATION:FabLab Zürich\, Zimmerlistrasse 6\, Zürich\, 8004\, Schweiz
GEO:47.383947;8.510061
X-APPLE-STRUCTURED-LOCATION;VALUE=URI;X-ADDRESS=Zimmerlistrasse 6\, Zürich
 \, 8004\, Schweiz;X-APPLE-RADIUS=100;X-TITLE=FabLab Zürich:geo:47.383947,
 8.510061
END:VEVENT
BEGIN:VTIMEZONE
TZID:Europe/Zurich
X-LIC-LOCATION:Europe/Zurich
BEGIN:STANDARD
DTSTART:20231029T020000
TZOFFSETFROM:+0200
TZOFFSETTO:+0100
TZNAME:CET
END:STANDARD
END:VTIMEZONE
END:VCALENDAR