BEGIN:VCALENDAR
VERSION:2.0
PRODID:-//wp-events-plugin.com//7.2.3.1//EN
TZID:Europe/Zurich
X-WR-TIMEZONE:Europe/Zurich
BEGIN:VEVENT
UID:1098@zurich.fablab.ch
DTSTART;TZID=Europe/Zurich:20210312T173000
DTEND;TZID=Europe/Zurich:20210312T210000
DTSTAMP:20250204T083418Z
URL:https://zurich.fablab.ch/events/machine-knitting-kurs-basics-14/
SUMMARY:Abgesagt: Machine Knitting Kurs: basics
DESCRIPTION:\n\nUm selbständig deine Projekte an der Flachbettstrickmachin
 e von Brother  zu realisieren\, benötigst du  ein paar Grundkenntnisse\
 ,\ndie du in diesem Workshop erlernen wirst. Du lernst\, wie du an der Str
 ickmaschine Zeichnungen oder Fotografien 2-farbig strickst im sogenannten 
 "Norweger-Muster".\n\nInhalt:\n- Maschen anschlagen\n- Maschen zunehmen\n-
  Maschen abnehmen\n- Maschen abketten\n\nDu lernst wie du Maschen zunehmen
  kannst oder wie du die  Maschenanzahl verringern kannst.\nGesteuert wird
  die Maschine mit einem Arduino. Die Bilder werden über einen Rasperry-Pi
  hochgeladen.\n\nDu wirst eine kleine Probe erstellen und den Workflow ken
 nen lernen. Die kleine Probe kannst du mit nach Hause nehmen.\n\nWas ist e
 ine Strickmaschine? Was kann ich damit tun? Was ist eine gehackte Strickma
 schine?\nWas sollte ich wissen\, um eine Strickmaschine zu gebrauchen.\n\n
 The Brother ist eine gehackte  Computer Strickmaschine (Feinstrickmaschin
 e). Es ist eine Flachbettstrickmaschine mit einer Breite von 200 Nadeln. 
 \nEs ist möglich direktes Stricken von PNG-Files zum fertigen Produkt.\n\
 nVORAUSSETZUNGEN: Keine\n\nMITBRINGEN: Labtop\, wenn möglich mit pixelbas
 ierter Software.\n\nVORHANDEN:\n- Wolle in der richtigen Materialstärke\n
 - Hacked knitting machine with the AYAB software (www.ayab-knitting.com)\n
 \nKURSLEITUNG\n\nMartina Alltermatt\n\nZUR STÄRKUNG: gibt es Zopf und Kaf
 fe. \;-))\n\nTEILNEHMERZAHL: max. 4 Personen\n\nKURSPREIS:\n\n 	CHF 140.- 
 für Mitglieder des FabLab Zürich\, exklusiv Material.\n 	Nichtmitglieder
  zahlen CHF 160.-  exklusiv Material.\n\nNach diesemWorkshop kannst du im
  Fablab Zürich starten und mit der Flachbett-Strickmaschine deine Projekt
 e verwirklichen.\nz.B.:  Frühlingspullover. Mützen oder Pulswärmer\, S
 chal...\n\n 
ATTACH;FMTTYPE=image/jpeg:https://zurich.fablab.ch/wp-content/uploads/2021
 /01/790B71C6-9A36-4FCD-A652-2C9919D4A62B_1_201_a-scaled.jpeg
CATEGORIES:Workshops
LOCATION:FabLab Zürich\, Zimmerlistrasse 6\, Zürich\, 8004\, Schweiz
GEO:47.383947;8.510061
X-APPLE-STRUCTURED-LOCATION;VALUE=URI;X-ADDRESS=Zimmerlistrasse 6\, Zürich
 \, 8004\, Schweiz;X-APPLE-RADIUS=100;X-TITLE=FabLab Zürich:geo:47.383947,
 8.510061
END:VEVENT
BEGIN:VTIMEZONE
TZID:Europe/Zurich
X-LIC-LOCATION:Europe/Zurich
BEGIN:STANDARD
DTSTART:20201025T020000
TZOFFSETFROM:+0200
TZOFFSETTO:+0100
TZNAME:CET
END:STANDARD
END:VTIMEZONE
END:VCALENDAR