BEGIN:VCALENDAR
VERSION:2.0
PRODID:-//wp-events-plugin.com//7.2.3.1//EN
TZID:Europe/Zurich
X-WR-TIMEZONE:Europe/Zurich
BEGIN:VEVENT
UID:1264@zurich.fablab.ch
DTSTART;TZID=Europe/Zurich:20220707T173000
DTEND;TZID=Europe/Zurich:20220707T210000
DTSTAMP:20220528T164545Z
URL:https://zurich.fablab.ch/events/machine-knitting-kurs-basics-22/
SUMMARY:Machine Knitting Kurs: basics
DESCRIPTION:\n\nUm selbständig deine Projekte an der Flachbettstrickmachin
 e von Brother  zu realisieren\, benötigst du  ein paar Grundkenntnisse\
 ,\ndie du in diesem Workshop erlernen wirst. Du lernst\, wie du an der Str
 ickmaschine Zeichnungen oder Fotografien 2-farbig strickst\,\neinen Anschl
 ag machst und wie du weiter strickst und wie du das ganze abnimmst.\n\nDu 
 lernst wie du Maschen zunehmen kannst oder wie du die  Maschenanzahl verr
 ingern kannst.\nGesteuert wird die Maschine mit einem Arduino. Die Bilder 
 werden über einen Rasperry-Pi hochgeladen.\n\nDu wirst eine kleine Probe 
 erstellen und den Workflow kennen lernen.\nDie kleine Probe kannst du mit 
 nach Hause nehmen.\n\nWas ist eine Strickmaschine? Was kann ich damit tun?
  Was ist eine gehackte Strickmaschine?\nWas sollte ich wissen\, um eine St
 rickmaschine zu gebrauchen.\n\nThe Brother ist eine gehackte  Computer St
 rickmaschine (Feinstrickmaschine). Es ist eine Flachbettstrickmaschine mit
  einer Breite von 200 Nadeln. \nEs ist möglich direktes Stricken von PNG
 -Files zum fertigen Produkt.\n\nVORAUSSETZUNGEN: Keine\n\nMITBRINGEN: Labt
 op\, wenn möglich mit pixelbasierter Software.\n\nVORHANDEN:\n- Alpakawol
 le oder Schafwolle in der richtigen Materialstärke\n- Hacked knitting mac
 hine with the AYAB software (www.ayab-knitting.com)\n\nKURSLEITUNG\nMartin
 a Altermatt\n\nZUR STÄRKUNG: gibt es ein "Znüni" oder "Zvieri".\n\nTEILN
 EHMERZAHL: max. 2 Personen\n\nKURSPREIS:\n\n 	CHF 140.- für Mitglieder de
 s FabLab Zürich\, exklusiv Material.\n 	Nichtmitglieder zahlen CHF 160.-
   exklusiv Material.\n\nNach diesem Workshop kannst du im Fablab Zürich 
 starten\, weiterlernen und mit der Flachbett-Strickmaschine deine Projekte
  verwirklichen.\nz.B.:  Frühlingspullover. Mützen oder Pulswärmer\, Sc
 hal...\n\n 
ATTACH;FMTTYPE=image/jpeg:https://zurich.fablab.ch/wp-content/uploads/2021
 /01/790B71C6-9A36-4FCD-A652-2C9919D4A62B_1_201_a-scaled.jpeg
CATEGORIES:Workshops
LOCATION:FabLab Zürich\, Zimmerlistrasse 6\, Zürich\, 8004\, Schweiz
GEO:47.383947;8.510061
X-APPLE-STRUCTURED-LOCATION;VALUE=URI;X-ADDRESS=Zimmerlistrasse 6\, Zürich
 \, 8004\, Schweiz;X-APPLE-RADIUS=100;X-TITLE=FabLab Zürich:geo:47.383947,
 8.510061
END:VEVENT
BEGIN:VTIMEZONE
TZID:Europe/Zurich
X-LIC-LOCATION:Europe/Zurich
BEGIN:DAYLIGHT
DTSTART:20220327T030000
TZOFFSETFROM:+0100
TZOFFSETTO:+0200
TZNAME:CEST
END:DAYLIGHT
END:VTIMEZONE
END:VCALENDAR