BEGIN:VCALENDAR
VERSION:2.0
PRODID:-//wp-events-plugin.com//7.2.3.1//EN
TZID:Europe/Zurich
X-WR-TIMEZONE:Europe/Zurich
BEGIN:VEVENT
UID:1383@zurich.fablab.ch
DTSTART;TZID=Europe/Zurich:20241124T100000
DTEND;TZID=Europe/Zurich:20241124T160000
DTSTAMP:20241104T144331Z
URL:https://zurich.fablab.ch/events/neu-kniterate-machine-knitting-kurs-2-
 stirnband-in-jacquardtechnik-2/
SUMMARY:Kniterate Machine Knitting Kurs 2: Stirnband in Jacquardtechnik
DESCRIPTION:\n\n\nKniterate Stirnband in Jacquardtechnik stricken\nDu erhä
 lst einen Einblick in die Bedienung der neuen Kniterate:\nDie digitale Str
 ickmaschine.\nSie hat zwei Strickbetten mit je 252 Nadeln und strickt voll
 automatisch.\nDu erlebst wie die Kniterate funktioniert und dein schönes 
 2-farbiges Stirnband in Jacquardtechnik strickt.\nEs wird mit feiner Merin
 owolle gestrickt.\nPIXELBILD\nDu zeichnest ein 2-farbiges\, schwarz-weisse
 s Pixelbild in deinem gewünschten Muster und speicherst es als .png index
 ed ab.\nGrösse des Bildes hat diese Masse: Breite: 40px\, Höhe: 272px\nI
 NHALT:\n- Garndicken\n- Wollgarn auf Konen wickeln\n- einfädeln der Wollf
 äden.\n- Fadenspannung\n- anstricken\n- Aufbau der Software\n- Bedienung 
 und Handhabung während des Strickens\n- Benutzung des Linkers\n\nDieser K
 urs ist besonders für diejenigen geeignet\, die noch keine oder nur wenig
  Erfahrung mit der Kniterate haben.\n\nNiveau:\nidealerweise has du schon 
 den "Brother Machine Knitting Kurs : basics 1 | Pixel-Bilder" besucht\,\ni
 st aber kein muss.\n\nMaterial: Merinowolle aus dem FabLab\n\nKursleitung:
 \nDirk Altermatt\, Martina Altermatt\n\nZUR STÄRKUNG:\nkleiner Imbiss Tee
  oder Kaffe.\n\n\n\nPS: Wir planen weitere Kniterate-Strickmaschinen Works
 hops.\n\n&nbsp\;
ATTACH;FMTTYPE=image/jpeg:https://zurich.fablab.ch/wp-content/uploads/2024
 /03/5AD43D6C-68E2-49F0-8F1E-43C45476FB62_1_105_c.jpeg
CATEGORIES:Workshops
LOCATION:FabLab Zürich\, Zimmerlistrasse 6\, Zürich\, 8004\, Schweiz
GEO:47.383947;8.510061
X-APPLE-STRUCTURED-LOCATION;VALUE=URI;X-ADDRESS=Zimmerlistrasse 6\, Zürich
 \, 8004\, Schweiz;X-APPLE-RADIUS=100;X-TITLE=FabLab Zürich:geo:47.383947,
 8.510061
END:VEVENT
BEGIN:VTIMEZONE
TZID:Europe/Zurich
X-LIC-LOCATION:Europe/Zurich
BEGIN:STANDARD
DTSTART:20241027T020000
TZOFFSETFROM:+0200
TZOFFSETTO:+0100
TZNAME:CET
END:STANDARD
END:VTIMEZONE
END:VCALENDAR