BEGIN:VCALENDAR
VERSION:2.0
PRODID:-//wp-events-plugin.com//7.2.3.1//EN
TZID:Europe/Zurich
X-WR-TIMEZONE:Europe/Zurich
BEGIN:VEVENT
UID:809@zurich.fablab.ch
DTSTART;TZID=Europe/Zurich:20200728T173000
DTEND;TZID=Europe/Zurich:20200728T203000
DTSTAMP:20200416T085746Z
URL:https://zurich.fablab.ch/events/porzellan-giessen-teil-1-2-4/
SUMMARY:Porzellan giessen: Teil 1/ 2 ABGESAGT
DESCRIPTION:\n\nKursdaten\nFindet an 2 Abenden statt: von 17:30 bis 20:30 U
 hr\nDienstag 28. Juli und Dienstag 4. August 2020\n\n\n\n \nEntdecke die 
 Welt des flüssigen Porzellans. \nDu stellst deine eigenen Trinkgefässe i
 n einer Kleinstserie her. Trinkbechern oder Teeschalen aus weissem Porzell
 an und eingefärbtem Porzellan für Akzente.\nWir erläutern dir den Proze
 ss des Giessens mit flüssigem Porzellan. Die dazu benötigten Gipsformen 
 werden vom FabLab zur Verfügung gestellt.\nDu giesst die Formen. Nach dem
  BiscuitBrand (Rohbrand) schleifst du die Gefässe in Form.\nMit transpare
 nter Glasur glasierst du die Oberfläche. Danach werden die Objekte hoch g
 ebrannt.\n\n\n\n\nVoraussetzungen:\nDu bist Mitglied von Fablab Zürich\n\
 n\n\n\nLernziele:\n\n 	Kennenlernen von flüssigem Porzellan\n 	Herstellen
  eigener Trinkgefässe mit der Technik des Porzellangiessens\n 	eingefärb
 tes Porzellan mit weissem Porzellan kombinieren.\n 	Kennenlernen und Anwen
 den von transparenter Glasur\n\nDer Kurs eignet sich für AnfängerInnen w
 ie auch für Fortgeschrittene.\nWillkommen sind Erwachsene und Jugendliche
  ab 14 Jahren.\nFindet an 2 verschiedenen Abenden statt:\n2 Dienstage von 
 17:30 bis 20:30 Uhr\n\n\n\n\nKosten:\nSfr. 190.- exkl. Materialkosten und 
 Brennkosten\, z.B. für eine Tasse (100g) ca. Fr. 4.00\, je nach Gewicht.\
 n\n\n\n\nKursleitung: Martina Altermatt\n\nBei Fragen zum Kurs bitte ein M
 ail an  programm(ät)zurich.fablab.ch senden.
ATTACH;FMTTYPE=image/jpeg:https://zurich.fablab.ch/wp-content/uploads/2019
 /03/porzellangiessen-scaled.jpg
CATEGORIES:Workshops
LOCATION:FabLab Zürich\, Zimmerlistrasse 6\, Zürich\, 8004\, Schweiz
GEO:47.383947;8.510061
X-APPLE-STRUCTURED-LOCATION;VALUE=URI;X-ADDRESS=Zimmerlistrasse 6\, Zürich
 \, 8004\, Schweiz;X-APPLE-RADIUS=100;X-TITLE=FabLab Zürich:geo:47.383947,
 8.510061
END:VEVENT
BEGIN:VTIMEZONE
TZID:Europe/Zurich
X-LIC-LOCATION:Europe/Zurich
BEGIN:DAYLIGHT
DTSTART:20200329T030000
TZOFFSETFROM:+0100
TZOFFSETTO:+0200
TZNAME:CEST
END:DAYLIGHT
END:VTIMEZONE
END:VCALENDAR