BEGIN:VCALENDAR
VERSION:2.0
PRODID:-//wp-events-plugin.com//7.2.3.1//EN
TZID:Europe/Zurich
X-WR-TIMEZONE:Europe/Zurich
BEGIN:VEVENT
UID:807@zurich.fablab.ch
DTSTART;TZID=Europe/Zurich:20200707T173000
DTEND;TZID=Europe/Zurich:20200707T203000
DTSTAMP:20200416T085300Z
URL:https://zurich.fablab.ch/events/porzellan-giessen-teil-1-2-abgesagt/
SUMMARY:Porzellan giessen: Teil 1/ 2 ABGESAGT
DESCRIPTION:\n\nKursdaten\nFindet an 2 Abenden statt: von 17:30 bis 20:30 U
 hr\nDienstag 7. Juli und Dienstag 14. Juli 2020\n\n\n\n \nEntdecke die We
 lt des flüssigen Porzellans. \nDu stellst deine eigenen Trinkgefässe in 
 einer Kleinstserie her. Trinkbechern oder Teeschalen aus weissem Porzellan
  und eingefärbtem Porzellan für Akzente.\nWir erläutern dir den Prozess
  des Giessens mit flüssigem Porzellan. Die dazu benötigten Gipsformen we
 rden vom FabLab zur Verfügung gestellt.\nDu giesst die Formen. Nach dem B
 iscuitBrand (Rohbrand) schleifst du die Gefässe in Form.\nMit transparent
 er Glasur glasierst du die Oberfläche. Danach werden die Objekte hoch geb
 rannt.\n\n\n\n\nVoraussetzungen:\nDu bist Mitglied von Fablab Zürich\n\n\
 n\n\nLernziele:\n\n 	Kennenlernen von flüssigem Porzellan\n 	Herstellen e
 igener Trinkgefässe mit der Technik des Porzellangiessens\n 	eingefärbte
 s Porzellan mit weissem Porzellan kombinieren.\n 	Kennenlernen und Anwende
 n von transparenter Glasur\n\nDer Kurs eignet sich für AnfängerInnen wie
  auch für Fortgeschrittene.\nWillkommen sind Erwachsene und Jugendliche a
 b 14 Jahren.\nFindet an 2 verschiedenen Abenden statt:\n2 Dienstage von 17
 :30 bis 20:30 Uhr\n\n\n\n\nKosten:\nSfr. 190.- exkl. Materialkosten und Br
 ennkosten\, z.B. für eine Tasse (100g) ca. Fr. 4.00\, je nach Gewicht.\n\
 n\n\n\nKursleitung: Martina Altermatt\n\nBei Fragen zum Kurs bitte ein Mai
 l an  programm(ät)zurich.fablab.ch senden.
ATTACH;FMTTYPE=image/jpeg:https://zurich.fablab.ch/wp-content/uploads/2019
 /03/porzellangiessen-scaled.jpg
CATEGORIES:Workshops
LOCATION:FabLab Zürich\, Zimmerlistrasse 6\, Zürich\, 8004\, Schweiz
GEO:47.383947;8.510061
X-APPLE-STRUCTURED-LOCATION;VALUE=URI;X-ADDRESS=Zimmerlistrasse 6\, Zürich
 \, 8004\, Schweiz;X-APPLE-RADIUS=100;X-TITLE=FabLab Zürich:geo:47.383947,
 8.510061
END:VEVENT
BEGIN:VTIMEZONE
TZID:Europe/Zurich
X-LIC-LOCATION:Europe/Zurich
BEGIN:DAYLIGHT
DTSTART:20200329T030000
TZOFFSETFROM:+0100
TZOFFSETTO:+0200
TZNAME:CEST
END:DAYLIGHT
END:VTIMEZONE
END:VCALENDAR