BEGIN:VCALENDAR
VERSION:2.0
PRODID:-//wp-events-plugin.com//7.2.3.1//EN
TZID:Europe/Zurich
X-WR-TIMEZONE:Europe/Zurich
BEGIN:VEVENT
UID:810@zurich.fablab.ch
DTSTART;TZID=Europe/Zurich:20200804T173000
DTEND;TZID=Europe/Zurich:20200804T203000
DTSTAMP:20200416T085731Z
URL:https://zurich.fablab.ch/events/porzellan-giessen-teil-2-2-4/
SUMMARY:Porzellan giessen: Teil 2/ 2 ABGESAGT
DESCRIPTION:Dieser Workshop findet an 2 Abenden statt:\n2 Dienstage von 17:
 30 bis 20:30 Uhr\nDienstag 28. Juli | Dienstag 4. August 2020\nAnmelden: d
 irekt hier
ATTACH;FMTTYPE=image/jpeg:https://zurich.fablab.ch/wp-content/uploads/2019
 /03/porzellangiessen-scaled.jpg
CATEGORIES:Workshops
LOCATION:FabLab Zürich\, Zimmerlistrasse 6\, Zürich\, 8004\, Schweiz
GEO:47.383947;8.510061
X-APPLE-STRUCTURED-LOCATION;VALUE=URI;X-ADDRESS=Zimmerlistrasse 6\, Zürich
 \, 8004\, Schweiz;X-APPLE-RADIUS=100;X-TITLE=FabLab Zürich:geo:47.383947,
 8.510061
END:VEVENT
BEGIN:VTIMEZONE
TZID:Europe/Zurich
X-LIC-LOCATION:Europe/Zurich
BEGIN:DAYLIGHT
DTSTART:20200329T030000
TZOFFSETFROM:+0100
TZOFFSETTO:+0200
TZNAME:CEST
END:DAYLIGHT
END:VTIMEZONE
END:VCALENDAR