BEGIN:VCALENDAR
VERSION:2.0
PRODID:-//wp-events-plugin.com//7.2.3.1//EN
TZID:Europe/Zurich
X-WR-TIMEZONE:Europe/Zurich
BEGIN:VEVENT
UID:1476@zurich.fablab.ch
DTSTART;TZID=Europe/Zurich:20251210T180000
DTEND;TZID=Europe/Zurich:20251210T210000
DTSTAMP:20251209T152127Z
URL:https://zurich.fablab.ch/events/porzellan-giessen-terrazzo-teil-1-2-3/
SUMMARY:Porzellan giessen Terrazzo: Teil 1/ 2
DESCRIPTION:\n\nKursdaten\nKurs findet an 2 Abenden statt:\nMittwoch:10.12.
 25 und wichtig Dienstag: 16.12. 25\n18:00 bis ca. 21:00 Uhr\n\n\n\n \nEnt
 decke die Welt des flüssigen Porzellans. \nDu stellst deine eigenen Trink
 gefässe in einer Kleinstserie her\, ca. 2 - 3 Trinkbechern oder Teeschal
 en aus weissem Porzellan und eingefärbtem Porzellan für Akzente.\nWir er
 läutern dir den Prozess des Giessens mit flüssigem Porzellan. Die dazu b
 enötigten Gipsformen werden vom FabLab zur Verfügung gestellt.\nDu giess
 t die Formen. Nach dem BiscuitBrand (Rohbrand) schleifst du die Gefässe i
 n Form.\nMit transparenter Glasur glasierst du die Oberfläche. Danach wer
 den die Objekte hoch gebrannt.\n\n\n\n\nVoraussetzungen:\nDu bist Mitglied
  von Fablab Zürich\n\n\n\n\nLernziele:\n\n 	Kennenlernen von flüssigem P
 orzellan\n 	Herstellen eigener Trinkgefässe mit der Technik des Porzellan
 giessens\n 	eingefärbtes farbiges Porzellan (mit Farbpigmenten) mit weiss
 em Porzellan kombinieren und damit experimentieren\, z.B. in Terrazzotechn
 ik oder Marmoriertechnik\n 	Kennenlernen und Anwenden von transparenter Gl
 asur\n\nDer Kurs eignet sich für AnfängerInnen wie auch für Fortgeschri
 ttene.\nWillkommen sind Erwachsene und Jugendliche ab 14 Jahren.\nWichtig:
  Der Kurs Findet an 2 verschiedenen Abenden statt:\n18:00 bis ca. 21:00Uhr
 \n\n\n\n\nKosten:\nSfr. 210.- inkl. Materialkosten und Brennkosten.\nnach 
 diesem Kurs bist du frei zu Giessen und bezahlst einfach das Material:\nz.
 B. für eine Tasse (100g) ca. Fr. 4.00\, je nach Gewicht.\n\n\n\n\nKurslei
 tung: Martina Altermatt\n\nBei Fragen zum Kurs bitte ein Mail an  program
 m(ät)zurich.fablab.ch senden.
ATTACH;FMTTYPE=image/jpeg:https://zurich.fablab.ch/wp-content/uploads/2022
 /10/IMG_7396.jpeg
CATEGORIES:Workshops
LOCATION:FabLab Zürich\, Zimmerlistrasse 6\, Zürich\, 8004\, Schweiz
GEO:47.383947;8.510061
X-APPLE-STRUCTURED-LOCATION;VALUE=URI;X-ADDRESS=Zimmerlistrasse 6\, Zürich
 \, 8004\, Schweiz;X-APPLE-RADIUS=100;X-TITLE=FabLab Zürich:geo:47.383947,
 8.510061
END:VEVENT
BEGIN:VTIMEZONE
TZID:Europe/Zurich
X-LIC-LOCATION:Europe/Zurich
BEGIN:STANDARD
DTSTART:20251026T020000
TZOFFSETFROM:+0200
TZOFFSETTO:+0100
TZNAME:CET
END:STANDARD
END:VTIMEZONE
END:VCALENDAR