BEGIN:VCALENDAR
VERSION:2.0
PRODID:-//wp-events-plugin.com//7.2.3.1//EN
TZID:Europe/Zurich
X-WR-TIMEZONE:Europe/Zurich
BEGIN:VEVENT
UID:1461@zurich.fablab.ch
DTSTART;TZID=Europe/Zurich:20251127T100000
DTEND;TZID=Europe/Zurich:20251127T120000
DTSTAMP:20251125T153323Z
URL:https://zurich.fablab.ch/events/pullis-mit-filzmaschine-upcyclen-oder-
 flicken-repair-thursday/
SUMMARY:Pullover mit Filzmaschine/Feltingmachine upcyclen oder flicken: "RE
 PAIR THURSDAY +"
DESCRIPTION:\nPULLIS oder Tshirts mit Filzmaschine upcyclen oder flicken: R
 EPAIR THURSDAY\nGo crazy“ with the feltingmachine.\nKomm ohne Voranmeldu
 ng einfach vorbei zwischen\n10:00-12:00 Uhr.\nDrop In: wir freuen uns auf 
 euchKosten: Material 5.-/Person\nZürich zeigt rund um den Black Friday\, 
 wie Kreislaufwirtschaft im Alltag funktioniert.Der Repair Thursday macht s
 ichtbar\, was Zürich stark macht: Menschen\, Orte und Initiativen\, die D
 inge erhalten statt zu ersetzen. Rund um den Black Friday öffnen Werkstä
 tten\, Ateliers und Geschäfte ihre Türen und zeigen\, wie Reparatur\, Ha
 ndwerk und Wissen weitergegeben werden können.Ob Kleidung\, Elektronik od
 er Möbel – überall in der Stadt wird geflickt\, gelernt und diskutiert
 \, so auch im Fablab Zürich.Das FabLab Zürich bietet die ganze Woche des
  Blackfridays Workshops an\, in denen dir schmackhaft gemacht wird\, deine
  Dinge selber zu reparieren anstatt neu zu kaufen.\nALTE PULLIS + T-SHIRT 
 MIT DER  FILZMASCHINE UPCYCELN/FLICKEN\nAlte Pullover müssen nicht wegge
 worfen werden – mit ein wenig Kreativität und der richtigen Technik wer
 den sie zu einzigartigen Lieblingsstücken mit unseren Filzmaschinen schen
 kst du deinem alten Pullovern ein zweites Leben.Pimpe deine alten T-shirts
  und Pullover auf\, repariere Löcher mit der Filzmaschine und gib ihnen e
 inen neuen Look\, wie es dir gefällt.Ob prägnante Pattern\, organische F
 ormen\, verspielte Applikationen oder wilde Strukturen\, wie es dir gefäl
 lt.\nAlles mit Restmaterial aus Schafwolle\, Strickwolle\, Filzwolle oder 
 Seide.\nHab Freude am neuen Glanz-Stück.\nWICHTIG: Nimm deinen defekten o
 der aufzupimenden Teile selber mit.\n\n\n[caption id="attachment_9339" ali
 gn="alignnone" width="300"] Filzmaschine[/caption]\n\n\n\n\n[caption id="a
 ttachment_9334" align="alignnone" width="300"] Filzmaschine[/caption]\n\n\
 n\n\n[caption id="attachment_9335" align="alignnone" width="300"] Filzmasc
 hine[/caption]\n\n\n\n\n\n&nbsp\;\n&nbsp\;\nUnverbindliche Anfragen für G
 ruppenkurse via E-Mail an vorstand ät zurich.fablab.ch\n&nbsp\;
ATTACH;FMTTYPE=image/jpeg:https://zurich.fablab.ch/wp-content/uploads/2025
 /11/IMG_2383-scaled.jpeg
CATEGORIES:Klimawerkstatt,Workshops
LOCATION:FabLab Zürich\, Zimmerlistrasse 6\, Zürich\, 8004\, Schweiz
GEO:47.383947;8.510061
X-APPLE-STRUCTURED-LOCATION;VALUE=URI;X-ADDRESS=Zimmerlistrasse 6\, Zürich
 \, 8004\, Schweiz;X-APPLE-RADIUS=100;X-TITLE=FabLab Zürich:geo:47.383947,
 8.510061
END:VEVENT
BEGIN:VTIMEZONE
TZID:Europe/Zurich
X-LIC-LOCATION:Europe/Zurich
BEGIN:STANDARD
DTSTART:20251026T020000
TZOFFSETFROM:+0200
TZOFFSETTO:+0100
TZNAME:CET
END:STANDARD
END:VTIMEZONE
END:VCALENDAR