BEGIN:VCALENDAR
VERSION:2.0
PRODID:-//wp-events-plugin.com//7.2.3.1//EN
TZID:Europe/Zurich
X-WR-TIMEZONE:Europe/Zurich
BEGIN:VEVENT
UID:980@zurich.fablab.ch
DTSTART;TZID=Europe/Zurich:20230101T140000
DTEND;TZID=Europe/Zurich:20230101T180000
DTSTAMP:20221204T184751Z
URL:https://zurich.fablab.ch/events/repair-cafe-im-fablab-zuerich-2-2023-0
 1-01/
SUMMARY:KEIN Repair Café im Januar
DESCRIPTION:Wegen Feiertag findet das Repair Café am 1. Januar 2023 NICHT 
 statt !\nDas nächste Repair Café findet am 5. Februar 2023 statt.\n\nWir
  wünschen allen ein gutes neues Jahr !\n\n
ATTACH;FMTTYPE=image/jpeg:https://zurich.fablab.ch/wp-content/uploads/2020
 /08/FLZRCSept2020.jpg
CATEGORIES:Meetups
END:VEVENT
BEGIN:VTIMEZONE
TZID:Europe/Zurich
X-LIC-LOCATION:Europe/Zurich
BEGIN:STANDARD
DTSTART:20221030T020000
TZOFFSETFROM:+0200
TZOFFSETTO:+0100
TZNAME:CET
END:STANDARD
END:VTIMEZONE
END:VCALENDAR