BEGIN:VCALENDAR
VERSION:2.0
PRODID:-//wp-events-plugin.com//7.2.3.1//EN
TZID:Europe/Zurich
X-WR-TIMEZONE:Europe/Zurich
BEGIN:VEVENT
UID:1100@zurich.fablab.ch
DTSTART;TZID=Europe/Zurich:20210613T100000
DTEND;TZID=Europe/Zurich:20210613T140000
DTSTAMP:20210609T133740Z
URL:https://zurich.fablab.ch/events/selbstbau-eines-co2-meter-mit-dem-call
 iope-mini/
SUMMARY:Selbstbau eines CO2-Meter mit dem Calliope Mini
DESCRIPTION:Selbstbau eines CO2-Meter mit dem Calliope Mini\, Kurs für Kin
 der und Jugendliche ab der 6.Klasse.
ATTACH;FMTTYPE=image/jpeg:https://zurich.fablab.ch/wp-content/uploads/2021
 /05/CO2_Caliope-1-scaled.jpg
CATEGORIES:Workshops
LOCATION:FabLab Zürich\, Zimmerlistrasse 6\, Zürich\, 8004\, Schweiz
GEO:47.383947;8.510061
X-APPLE-STRUCTURED-LOCATION;VALUE=URI;X-ADDRESS=Zimmerlistrasse 6\, Zürich
 \, 8004\, Schweiz;X-APPLE-RADIUS=100;X-TITLE=FabLab Zürich:geo:47.383947,
 8.510061
END:VEVENT
BEGIN:VTIMEZONE
TZID:Europe/Zurich
X-LIC-LOCATION:Europe/Zurich
BEGIN:DAYLIGHT
DTSTART:20210328T030000
TZOFFSETFROM:+0100
TZOFFSETTO:+0200
TZNAME:CEST
END:DAYLIGHT
END:VTIMEZONE
END:VCALENDAR