BEGIN:VCALENDAR
VERSION:2.0
PRODID:-//wp-events-plugin.com//7.2.3.1//EN
TZID:Europe/Zurich
X-WR-TIMEZONE:Europe/Zurich
BEGIN:VEVENT
UID:1335@zurich.fablab.ch
DTSTART;TZID=Europe/Zurich:20231108T173000
DTEND;TZID=Europe/Zurich:20231108T210000
DTSTAMP:20231110T121048Z
URL:https://zurich.fablab.ch/events/socken-mit-csm-rundstrickmaschine-work
 shop/
SUMMARY:Socken Workshop Einführung: CSM-Rundstrickmaschine
DESCRIPTION:\n\nDieser Kurs ist ein Einführungskurs in die Rundstrickmasch
 ine CSM (Circular Sock Maschine).\nIn diesen 3 1/2 Stunden lernst du damit
  umzugehen\, und kannst nach diesem Workshop später selbständig weiter s
 tricken. Das heisst\, dass in du in dieser Zeit vielleicht eine Socke fert
 ig stellst und später erst die Zweite Socke machst. Nach dem Workshop kan
 nst du während den Öffnungszeiten des FabLabs selbständig so viele Sock
 en stricken wie du willst .\n\nFür die Anmeldung diese Workshops wirst du
  darum direkt Mitglied des FabLab Zürich wie alle anderen Mitglieder des 
 FabLabs.\n\nDu lernst auf der CSM (Circular Sock Machine) Socken zu strick
 en:\n-was ist eine CSM\, Sockenrundstrickmaschine\n-stricken mit Waste Yar
 n\n-anstricken\n-verkürzte Reihen\n-Zehenabnahme\n\nVORAUSSETZUNGEN: Freu
 de am experimentieren mit Maschinen und Wolle\nVORHANDEN: Sockenwolle für
  die CSM-Maschine.\nNIVEAU: Einsteiger:innen\n\n\nKURSLEITUNG: Martina Alt
 ermatt\n\n\nZUR STÄRKUNG: kleiner Imbiss Tee oder Kaffe.\n\nANZAHL TEILNE
 HMER:INNEN: max. 2 Personen\n\nKURSPREIS: CHF 160.- für Mitglieder des Fa
 bLab Zürich\, exklusiv Material.\n\nNach diesem Workshop kannst du deine 
 Socken-Projekte im Fablab Zürich mit der CSM-Sockenstrickmaschine  start
 en und verwirklichen.\n\n
ATTACH;FMTTYPE=image/jpeg:https://zurich.fablab.ch/wp-content/uploads/2023
 /04/IMG_6196-scaled.jpeg
CATEGORIES:Workshops
LOCATION:FabLab Zürich\, Zimmerlistrasse 6\, Zürich\, 8004\, Schweiz
GEO:47.383947;8.510061
X-APPLE-STRUCTURED-LOCATION;VALUE=URI;X-ADDRESS=Zimmerlistrasse 6\, Zürich
 \, 8004\, Schweiz;X-APPLE-RADIUS=100;X-TITLE=FabLab Zürich:geo:47.383947,
 8.510061
END:VEVENT
BEGIN:VTIMEZONE
TZID:Europe/Zurich
X-LIC-LOCATION:Europe/Zurich
BEGIN:STANDARD
DTSTART:20231029T020000
TZOFFSETFROM:+0200
TZOFFSETTO:+0100
TZNAME:CET
END:STANDARD
END:VTIMEZONE
END:VCALENDAR