BEGIN:VCALENDAR
VERSION:2.0
PRODID:-//wp-events-plugin.com//7.2.3.1//EN
TZID:Europe/Zurich
X-WR-TIMEZONE:Europe/Zurich
BEGIN:VEVENT
UID:416@zurich.fablab.ch
DTSTART;TZID=Europe/Zurich:20170613T183000
DTEND;TZID=Europe/Zurich:20170613T203000
DTSTAMP:20170615T091700Z
URL:https://zurich.fablab.ch/events/von-der-form-zur-kleinserie-keramik-me
 etups-mit-bergit-und-gaesten-2017-06-13/
SUMMARY:Von der Form zur Kleinserie – Keramik-MeetUps mit Bergit und Gäs
 ten
DESCRIPTION:Wir werden regelmässig am zweiten Dienstag im Monat und nach B
 edarf ausloten welchen Gestaltungsspielraum uns die im FabLab Zürich zur 
 Verfühgung stehenden modernen digitalen Fabrikationstechnologien im Berei
 ch Keramik bieten.\nEin Keramikofen steht gleich daneben und gebrannt wird
  regelmässig.\n\nStart:\nam 13.06.2017\num 18:30Uhr\nim FabLab Zürich\n\
 nKosten: \nfür Mitglieder 20CHF/Abend inkl. Material\nfür Nichtmitgliede
 r 30CHF/Abend inkl. Material
ATTACH;FMTTYPE=image/jpeg:https://zurich.fablab.ch/wp-content/uploads/2017
 /06/170601-Keramik-mit-Bergit-und-Gästen.jpg
CATEGORIES:Meetups
LOCATION:FabLab Zürich\, Zimmerlistrasse 6\, Zürich\, 8004\, Schweiz
GEO:47.383947;8.510061
X-APPLE-STRUCTURED-LOCATION;VALUE=URI;X-ADDRESS=Zimmerlistrasse 6\, Zürich
 \, 8004\, Schweiz;X-APPLE-RADIUS=100;X-TITLE=FabLab Zürich:geo:47.383947,
 8.510061
END:VEVENT
BEGIN:VTIMEZONE
TZID:Europe/Zurich
X-LIC-LOCATION:Europe/Zurich
BEGIN:DAYLIGHT
DTSTART:20170326T030000
TZOFFSETFROM:+0100
TZOFFSETTO:+0200
TZNAME:CEST
END:DAYLIGHT
END:VTIMEZONE
END:VCALENDAR